BEGIN:VCALENDAR
VERSION:2.0
PRODID:-//wp-events-plugin.com//7.2.3.1//EN
TZID:Europe/Berlin
X-WR-TIMEZONE:Europe/Berlin
BEGIN:VEVENT
UID:421@vtad.de
DTSTART;TZID=Europe/Berlin:20210722T170000
DTEND;TZID=Europe/Berlin:20210722T184500
DTSTAMP:20210714T050445Z
URL:https://www.vtad.de/rgt/ag-boersenhandel-14/
SUMMARY:AG Börsenhandel
DESCRIPTION:Thema: \n\nHeute wollen wir uns mit dem Ausstiegszeitpunkt bei 
 Trendaktien beschäftigen. Es gibt praktisch kein gutes System\, um sinnvo
 ll aus einer starken Trendaktie herauszukommen\, ohne größere Buchgewinn
 e wieder abzugeben. Kursmuster-Zielkurse\, Fibonacci oder Gann? Alles eine
  Katastrophe\, weil sie die Gewinne scharf beschneiden.\nDas Thema wird vo
 n den meisten Tradern völlig unterschätzt\, weil sie zu kurzfristig im M
 arkt sind. Bei einer guten Trendaktie muss man die Gewinne unbedingt laufe
 n lassen. Bei Aktien wie Adyen\, ASML oder dem Bitcoin ist jede Kurszielbe
 stimmung nur Glücksspiel. Also was kann man machen\, um die Fehlentschdei
 dungen beim Exit so klein wie möglich zu halten?\n\n&nbsp\;\n\n\n\nAn den
  Meetings der AG Börsenhandel können alle aktiven Mitglieder der VTAD te
 ilnehmen. Gäste können an der AG nicht teilnehmen!!!\n\n\n\nHygienekonze
 pt\, Stand 13.07.2021:\n\nAuf Grund der Corona-Bestimmungen des Landes Ber
 lin gilt bis auf Weiteres folgende Regelung:\n\nBis zu einer Teilnehmerzah
 l von 50 Personen ist kein Negativtest oder Dergleichen erforderlich.\n\nJ
 EDER Teilnehmer meldet sich vorher(min. 24 Stunden) beim Regionalleiter pe
 r Email an(mit vollständiger Adresse und Telefonnummer).\n\nDie Situation
  kann sich jedoch schnell wieder ändern\, deshalb bitte hier auch weiterh
 in sachkundig machen.\n\nWer sich krank fühlt bleibt bitte zu Hause. Auf 
 innige Begrüßungen sollte verzichtet werden.\n\nHinweis: Für diese Vera
 nstaltung sind wir verpflichtet ein entsprechendes Hygienekonzept zu erste
 llen und umzusetzen.\n\n&nbsp\;
CATEGORIES:Berlin
LOCATION:die Reha e.V.
X-APPLE-STRUCTURED-LOCATION;VALUE=URI;X-ADDRESS=Weydemeyerstr. 2/2a\, Berli
 n\, Berlin\, 10178\, Deutschland;X-APPLE-RADIUS=100;X-TITLE=die Reha e.V.:
 geo:0,0
END:VEVENT
BEGIN:VTIMEZONE
TZID:Europe/Berlin
X-LIC-LOCATION:Europe/Berlin
BEGIN:DAYLIGHT
DTSTART:20210328T030000
TZOFFSETFROM:+0100
TZOFFSETTO:+0200
TZNAME:CEST
END:DAYLIGHT
END:VTIMEZONE
END:VCALENDAR