BEGIN:VCALENDAR
VERSION:2.0
PRODID:-//wp-events-plugin.com//7.2.3.1//EN
TZID:Europe/Berlin
X-WR-TIMEZONE:Europe/Berlin
BEGIN:VEVENT
UID:271@vtad.de
DTSTART;TZID=Europe/Berlin:20200211T170000
DTEND;TZID=Europe/Berlin:20200211T184500
DTSTAMP:20200204T173700Z
URL:https://www.vtad.de/rgt/ag-boersenhandel-8/
SUMMARY:AG Börsenhandel - Wichtige Gesetzesänderung im Steuergesetz
DESCRIPTION:Wichtige Gesetzesänderung im Steuergesetz
CATEGORIES:Berlin
LOCATION:Savoy Berlin
X-APPLE-STRUCTURED-LOCATION;VALUE=URI;X-ADDRESS=FASANENSTRASSE 9 – 10\, B
 erlin\, 10623\, Deutschland;X-APPLE-RADIUS=100;X-TITLE=Savoy Berlin:geo:0,
 0
END:VEVENT
BEGIN:VTIMEZONE
TZID:Europe/Berlin
X-LIC-LOCATION:Europe/Berlin
BEGIN:STANDARD
DTSTART:20191027T020000
TZOFFSETFROM:+0200
TZOFFSETTO:+0100
TZNAME:CET
END:STANDARD
END:VTIMEZONE
END:VCALENDAR