BEGIN:VCALENDAR
VERSION:2.0
PRODID:-//wp-events-plugin.com//7.2.3.1//EN
TZID:Europe/Berlin
X-WR-TIMEZONE:Europe/Berlin
BEGIN:VEVENT
UID:434@vtad.de
DTSTART;TZID=Europe/Berlin:20211202T190000
DTEND;TZID=Europe/Berlin:20211202T210000
DTSTAMP:20211122T181439Z
URL:https://www.vtad.de/rgt/aktien-erfolgreich-mit-statistischen-methoden-
 traden-2/
SUMMARY:1) Trading mit dem Blick durch die systemische Brille / 2) "Die Sek
 torenmatrix"
DESCRIPTION:Teil 1:\nFranziska Dierick gibt einen Einblick in die systemisc
 hen Zusammenhänge beim Handeln an der Börse. Welche Einflussfaktoren von
  außen wirken. Welchen Einflüssen wir uns nur schwer entziehen können u
 nd welche Stolpersteine uns unser Gehirn in den Weg schmeißt. Des Weitere
 n gibt sie ein paar kognitive Verzerrungen mit auf den Weg\, die Sie kenne
 n sollten.\n\nFranziska Dierick ist stellvertretende Regionalleiterin der 
 RG Berlin.\n\n&nbsp\;\n\nTeil 2:\nIm zweiten Teil erläutert Herr Klingner
  den Aufbau einer Sektorenmatrix. Sie dient ihm die richtigen Märkte zur 
 richtigen Zeit zu finden. Was anfänglich kompliziert und komplex aussieht
 \, entpuppt sich auf den zweiten Blick als praktisch und wertvoll.\n\nMark
 o Klingner leitet seit mehreren Jahren die Berlin Regionalgruppe. Er betre
 ibt die Webseite www.traders-blog.de und schreibt in den sozialen Medien a
 ls Traders-Blog.\n\n\n\nRegelung für Gäste und Interessierte:\nSchnupper
 n ist mit vorheriger Anmeldung kostenfrei und erst bei ab der zweiten Teil
 nahme werden 30 € Kostenbeteiligung berechnet. Die Gäste werden gebeten
  sich beim Regionalmanager per Email unter rm.berlin@vtad.de anzumelden\,
   da die Plätze beschränkt sind!\n\nGutscheine für eine einmalige kost
 enlose Teilnahme erhalten Sie auf Börsentagen\, Messen oder auf schriftli
 che Anfrage beim Regionalmanager.\nGäste ohne vorherige Anmeldung müssen
  leider abgewiesen werden!!!\n\n\n\nHygienekonzept\, Stand 22.11.2021:\n\n
 Auf Grund der Corona-Bestimmungen des Landes Berlin gilt bis auf Weiteres 
 folgende Regelung:\n\nWir wenden das sogenannte 2G-Modell an. Das bedeutet
 \, dass alle Teilnehmer entweder vollständig geimpft oder genesen sein m
 üssen.\n\n&nbsp\;\n\nWer sich krank fühlt bleibt bitte zu Hause. Auf inn
 ige Begrüßungen sollte verzichtet werden.\n\n\nHinweis: Für diese Veran
 staltung sind wir verpflichtet ein entsprechendes Hygienekonzept zu erstel
 len und umzusetzen.
CATEGORIES:Berlin
LOCATION:die Reha e.V.
X-APPLE-STRUCTURED-LOCATION;VALUE=URI;X-ADDRESS=Weydemeyerstr. 2/2a\, Berli
 n\, Berlin\, 10178\, Deutschland;X-APPLE-RADIUS=100;X-TITLE=die Reha e.V.:
 geo:0,0
END:VEVENT
BEGIN:VTIMEZONE
TZID:Europe/Berlin
X-LIC-LOCATION:Europe/Berlin
BEGIN:STANDARD
DTSTART:20211031T020000
TZOFFSETFROM:+0200
TZOFFSETTO:+0100
TZNAME:CET
END:STANDARD
END:VTIMEZONE
END:VCALENDAR