BEGIN:VCALENDAR
VERSION:2.0
PRODID:-//wp-events-plugin.com//7.2.3.1//EN
TZID:Europe/Berlin
X-WR-TIMEZONE:Europe/Berlin
BEGIN:VEVENT
UID:657@vtad.de
DTSTART;TZID=Europe/Berlin:20230322T190000
DTEND;TZID=Europe/Berlin:20230322T211500
DTSTAMP:20230128T104654Z
URL:https://www.vtad.de/rgt/anlagepolitische-grosswetterlage/
SUMMARY:Anlagepolitische Großwetterlage
DESCRIPTION:WO: A&amp\;O Hotel &amp\; Hostel\, Corneliusstr. 9\, Düsseldor
 f\n\nWANN: 22.03.23 19:00 h\n\nWAS: Daniel Haase: Anlagepolitische Großwe
 tterlage\n\n&nbsp\;\n\nWas uns erwartet:\n\nRisikoanalyse: Deutschland\, E
 uropa\, Euro in der laufenden Dekade\n\nUntersuchungen zur Inflation: Welc
 he Anlagestrategien profitieren und welche versagen in Inflationszeiten?\n
 \nChancen der kommenden Jahre &amp\; Märkte in 2023\n\n&nbsp\;\n\nIhr Ref
 erent\n\nDaniel Haase\, Jahrgang 1976\, ist Vorstand beim Hamburger Vermö
 gensverwalter HAC (www.hac.de) und dort zuständig für das Asset Manageme
 nt sowie die Finanzmarktanalyse (Pfadfinder-Brief).\n\n&nbsp\;\n\nVon der 
 Vereinigung Technischer Analysten Deutschlands wurde das von ihm entwickel
 te Trendfolge-Modell 2009 und seine Untersuchungen zur regelbasierten Akti
 enauswahl 2019 mit VTAD Awards ausgezeichnet. Von 2010 bis 2017 leitete er
  die VTAD Regionalgruppe Hamburg. Der von ihm verantwortete HAC Quant STIF
 TUNGSFONDS flexibel global wurde nach erfolgreich überstandenen Corona-Cr
 ash im Frühjahr 2020 sowohl von Morningstar als auch von FWW FundStars mi
 t fünf Sternen ausgezeichnet. 2021 folgte von der Fachzeitschrift €uro 
 die „Fondsnote 1“. Vor wenigen Wochen wurde der Fonds mit dem Boutique
 n-Award 2022 als bestes dynamisches Mischfondskonzept ausgezeichnet sowie 
 von der Zeitschrift „Das Investment“ in die Gruppe der fünf besten we
 ltweit anlegenden\, flexiblen Mischfonds aufgenommen.
CATEGORIES:Düsseldorf
END:VEVENT
BEGIN:VTIMEZONE
TZID:Europe/Berlin
X-LIC-LOCATION:Europe/Berlin
BEGIN:STANDARD
DTSTART:20221030T020000
TZOFFSETFROM:+0200
TZOFFSETTO:+0100
TZNAME:CET
END:STANDARD
END:VTIMEZONE
END:VCALENDAR