BEGIN:VCALENDAR
VERSION:2.0
PRODID:-//wp-events-plugin.com//7.2.3.1//EN
TZID:Europe/Berlin
X-WR-TIMEZONE:Europe/Berlin
BEGIN:VEVENT
UID:1004@vtad.de
DTSTART;TZID=Europe/Berlin:20251009T181500
DTEND;TZID=Europe/Berlin:20251009T203000
DTSTAMP:20251013T193430Z
URL:https://www.vtad.de/rgt/ausblick-auf-die-maerkte-mit-daniel-haase/
SUMMARY:Ausblick auf die Märkte mit Daniel Haase
DESCRIPTION:Vortragsunterlagen (bitte einloggen !): [members_logged_in] 202
 5-10-09-VTAD-Nürnberg-Daniel-Haase-Grosses-Bild[/members_logged_in]\n\nNa
 chdem Daniel Haase letztmalig im Jahr 2016 bei uns in Nürnberg zu Gast wa
 r\, freut es uns umso mehr\, daß er uns im Herbst dieses Jahres wieder be
 suchen wird und mit uns einen Ausblick auf die Gesamtlage aller Märkte we
 rfen wird.\n\nIhr Referent:\n\nDaniel Haase\, Jahrgang 1976\, ist Asset Ma
 nager und Finanzmarktanalyst. Von der Vereinigung Technischer Analysten De
 utschlands wurde das von ihm\nentwickelte Trendfolge-Modell 2009 und seine
  Untersuchungen zur regelbasierten Aktienauswahl 2019 mit VTAD Awards ausg
 ezeichnet. Von 2010\nbis 2017 leitete er die VTAD Regionalgruppe Hamburg. 
 In den zurückliegenden Jahren erhielten zwei von ihm verantwortete Invest
 mentfonds Top-Bewertungen von Morningstar und FWW FundStars sowie weitere 
 Auszeichnungen (u.a. €uro Fondsnote 1\, Boutiquen Award).\n\nSeine Finan
 zmarktanalysen werden monatlich im Empiria-Brief\nhttps://www.empiria-brie
 f.de/\n\nveröffentlicht.“
CATEGORIES:Nürnberg
LOCATION:eckstein haus der evang.-luth. kirche nürnberg
X-APPLE-STRUCTURED-LOCATION;VALUE=URI;X-ADDRESS=Burgstrasse 1-3\, Raum 1.01
 \, Nürnberg\, 90403 \, Bayern\, Deutschland;X-APPLE-RADIUS=100;X-TITLE=ec
 kstein haus der evang.-luth. kirche nürnberg:geo:0,0
END:VEVENT
BEGIN:VTIMEZONE
TZID:Europe/Berlin
X-LIC-LOCATION:Europe/Berlin
BEGIN:DAYLIGHT
DTSTART:20250330T030000
TZOFFSETFROM:+0100
TZOFFSETTO:+0200
TZNAME:CEST
END:DAYLIGHT
END:VTIMEZONE
END:VCALENDAR