BEGIN:VCALENDAR
VERSION:2.0
PRODID:-//wp-events-plugin.com//7.2.3.1//EN
TZID:Europe/Berlin
X-WR-TIMEZONE:Europe/Berlin
BEGIN:VEVENT
UID:685@vtad.de
DTSTART;TZID=Europe/Berlin;VALUE=DATE:20230422
DTEND;TZID=Europe/Berlin;VALUE=DATE:20230423
DTSTAMP:20230308T171710Z
URL:https://www.vtad.de/rgt/boersentag-muenchen/
SUMMARY:Börsentag München
DESCRIPTION:https://www.boersentag-muenchen.de/home/
CATEGORIES:München
END:VEVENT
BEGIN:VTIMEZONE
TZID:Europe/Berlin
X-LIC-LOCATION:Europe/Berlin
BEGIN:DAYLIGHT
DTSTART:20230326T030000
TZOFFSETFROM:+0100
TZOFFSETTO:+0200
TZNAME:CEST
END:DAYLIGHT
END:VTIMEZONE
END:VCALENDAR