BEGIN:VCALENDAR
VERSION:2.0
PRODID:-//wp-events-plugin.com//7.2.3.1//EN
TZID:Europe/Berlin
X-WR-TIMEZONE:Europe/Berlin
BEGIN:VEVENT
UID:932@vtad.de
DTSTART;TZID=Europe/Berlin:20250109T183000
DTEND;TZID=Europe/Berlin:20250109T210000
DTSTAMP:20241111T174450Z
URL:https://www.vtad.de/rgt/bouhmidi-baender-der-impliziten-volatilitaet-a
 uf-der-spur-2/
SUMMARY:Bouhmidi-Bänder – Der impliziten Volatilität auf der Spur
DESCRIPTION:Bouhmidi-Bänder – Der impliziten Volatilität auf der Spur\
 n\nDie bekanntesten Volatilitätsindikatoren wie Bollinger Bands\, Keltner
  Channel\, Donchian Channels usw. verwenden alle die historische Volatilit
 ät des Basiswerts. Die Volatilität wird jedoch nicht nur durch die histo
 rische Volatilität\, sondern auch durch die implizite Volatilität bestim
 mt. Die zusätzliche Analyse der impliziten Volatilität schärft den Blic
 k und verbessert den Handelsansatz. In diesem Vortrag wird Herr Bouhmidi e
 igenen innovativen und auf verschiedene Assetklassen übertragbaren Volati
 litätsindikator vorstellen.\n\nSalah-Eddine Bouhmidi ist Head of Markets
  bei IG und für das Marktresearch in Deutschland\, Österreich und den Ni
 ederlanden verantwortlich. Als studierter Wirtschaftswissenschaftler (M. S
 c.) hat sich Herr Bouhmidi intensiv mit Kapitalmarkttheorie und quantitati
 ver Analyse beschäftigt. Neben den psychologischen Aspekten des Tradings 
 befasst er sich zudem mit der statistischen Modellierung von Handelsstrate
 gien und Testverfahren.
CATEGORIES:Stuttgart
LOCATION:Haus der Wirtschaft
X-APPLE-STRUCTURED-LOCATION;VALUE=URI;X-ADDRESS= Willi-Bleicher-Straße 19\
 , Stuttgart\, 71174\, Deutschland;X-APPLE-RADIUS=100;X-TITLE=Haus der Wirt
 schaft:geo:0,0
END:VEVENT
BEGIN:VTIMEZONE
TZID:Europe/Berlin
X-LIC-LOCATION:Europe/Berlin
BEGIN:STANDARD
DTSTART:20241027T020000
TZOFFSETFROM:+0200
TZOFFSETTO:+0100
TZNAME:CET
END:STANDARD
END:VTIMEZONE
END:VCALENDAR