BEGIN:VCALENDAR
VERSION:2.0
PRODID:-//wp-events-plugin.com//7.2.3.1//EN
TZID:Europe/Berlin
X-WR-TIMEZONE:Europe/Berlin
BEGIN:VEVENT
UID:755@vtad.de
DTSTART;TZID=Europe/Berlin:20231019T191500
DTEND;TZID=Europe/Berlin:20231019T201500
DTSTAMP:20231011T093836Z
URL:https://www.vtad.de/rgt/brauerei-u-a-aktien-im-fokus-der-relativen-sta
 erke/
SUMMARY:Brauerei- u.a. Aktien im Fokus der Relativen Stärke
DESCRIPTION:(ist Bestandteil der um 18:30 h beginnenden Gesamtveranstaltung
 \, kann also NICHT einzeln besucht werden)\n\nHeute Abend stehen Brauerei-
  und andere Aktien im Fokus. Dabei werden zunächst verschiedene Branchen 
 (us-englisch: "industry") anhand ihres Rankings miteinander verglichen und
  dann eine in der Rangfolge hoch stehende Aktie einer führenden Branche n
 äher analysiert. Dazu gibt es einen Small Cap als Überraschungstip\, der
  noch nicht in jeder zweiten Börsenzeitschrift auf dem Titel steht\, char
 ttechnisch und aber sehr aussichtsreich ist.
CATEGORIES:Düsseldorf
END:VEVENT
BEGIN:VTIMEZONE
TZID:Europe/Berlin
X-LIC-LOCATION:Europe/Berlin
BEGIN:DAYLIGHT
DTSTART:20230326T030000
TZOFFSETFROM:+0100
TZOFFSETTO:+0200
TZNAME:CEST
END:DAYLIGHT
END:VTIMEZONE
END:VCALENDAR