BEGIN:VCALENDAR
VERSION:2.0
PRODID:-//wp-events-plugin.com//7.2.3.1//EN
TZID:Europe/Berlin
X-WR-TIMEZONE:Europe/Berlin
BEGIN:VEVENT
UID:578@vtad.de
DTSTART;TZID=Europe/Berlin:20220811T183000
DTEND;TZID=Europe/Berlin:20220811T210000
DTSTAMP:20220711T122327Z
URL:https://www.vtad.de/rgt/crashs-vermeiden-und-outperformance-erzielen-m
 ittels-dem-domosys-system/
SUMMARY:"Crashs vermeiden und Outperformance erzielen mittels dem domosys®
  System"
DESCRIPTION:An diesem Abend widmen wir uns der doppelten Momentumstrategie 
 (auch Smart Investor – Ausgabe 12/2020\, Seite 27 ff.) Aufbauend auf die
 sem Beitrag wollen wir nun einen tieferen Einblick in diese Aktienstrategi
 e geben. Sie vereinigt zuverlässig wie ein Uhrwerk zwei Kriterien\, die A
 nlegern wohl am stärksten am Herz liegen\, nämlich Korrekturen und Crash
 s zuverlässig abzufedern und gleichzeitig die Wertentwicklung der Aktienm
 ärkte zu übertrumpfen.\n\nDer Diplom-Kaufmann Werner Krieger ist ausgebi
 ldeter Analyst (CEFA) und hat 1997 die GFA Vermögensverwaltung GmbH gegr
 ündet. Dort ist er als geschäftsführender Gesellschafter für die Produ
 ktentwicklung und das Management der hauseigenen Produkte verantwortlich.\
 n\nFür weitere Informationen: https://www.gfa-vermoegensverwaltung.de/
CATEGORIES:Stuttgart
LOCATION:Hospitalhof Stuttgart
X-APPLE-STRUCTURED-LOCATION;VALUE=URI;X-ADDRESS=Büchsenstraße 33\, Stuttg
 art\, Baden-Württemberg\, 70174\, Deutschland;X-APPLE-RADIUS=100;X-TITLE=
 Hospitalhof Stuttgart:geo:0,0
END:VEVENT
BEGIN:VTIMEZONE
TZID:Europe/Berlin
X-LIC-LOCATION:Europe/Berlin
BEGIN:DAYLIGHT
DTSTART:20220327T030000
TZOFFSETFROM:+0100
TZOFFSETTO:+0200
TZNAME:CEST
END:DAYLIGHT
END:VTIMEZONE
END:VCALENDAR