BEGIN:VCALENDAR
VERSION:2.0
PRODID:-//wp-events-plugin.com//7.2.3.1//EN
TZID:Europe/Berlin
X-WR-TIMEZONE:Europe/Berlin
BEGIN:VEVENT
UID:528@vtad.de
DTSTART;TZID=Europe/Berlin:20220401T140000
DTEND;TZID=Europe/Berlin:20220401T153000
DTSTAMP:20220328T154224Z
URL:https://www.vtad.de/rgt/dax-live-trading/
SUMMARY:DAX Live-Trading - zu den NFP-Zahlen
DESCRIPTION:Der DAX-Future gilt als das Profi-Trading-Instrument und ist 24
 /5 handelbar. Zeit ist kostbar und nicht immer wird durch „Mehrhandel“
  ein besseres Ergebnis erzielt. So wenig wie möglich\, so viel wie nötig
  ist der Leitspruch des Profi-Traders Thomas Hartmann. „Im Bestfall ist 
 ein Handelstag nach einer halben Stunde beendet“.\n\nSchauen Sie Thomas 
 Hartmann über die Schulter\, wie er sich für sein tägliches Trading-Set
 -up vorbereitet und welche Überlegungen er trifft\, ob er im DAX-Future e
 ine Position einnimmt.\n\nThomas Hartmann besitzt 21 Jahre Erfahrung im B
 örsenhandel mit Schwerpunkt auf dem Gebiet der technischen Finanzmarktana
 lyse und die Arbeit als Projektleiter im Devisenhandel sind die Grundlagen
  seiner Profession. Er analysiert regelmäßig die Märkte auf den führen
 den Börsenportalen und schult Kunden\, die das Trading erlernen und/oder 
 optimieren möchten. Geschäftsführer der Hartmann Kapital\, Hartmann Coa
 ching und Börsenecho.de\n\nNähere Informationen zu Thomas und seinen Coa
 ching-Dienstleistungen findet Ihr unter https://thomas-hartmann.online
CATEGORIES:VTAD Webinar
END:VEVENT
BEGIN:VTIMEZONE
TZID:Europe/Berlin
X-LIC-LOCATION:Europe/Berlin
BEGIN:DAYLIGHT
DTSTART:20220327T030000
TZOFFSETFROM:+0100
TZOFFSETTO:+0200
TZNAME:CEST
END:DAYLIGHT
END:VTIMEZONE
END:VCALENDAR