BEGIN:VCALENDAR
VERSION:2.0
PRODID:-//wp-events-plugin.com//7.2.3.1//EN
TZID:Europe/Berlin
X-WR-TIMEZONE:Europe/Berlin
BEGIN:VEVENT
UID:1028@vtad.de
DTSTART;TZID=Europe/Berlin:20250911T183000
DTEND;TZID=Europe/Berlin:20250911T204500
DTSTAMP:20250912T172838Z
URL:https://www.vtad.de/rgt/der-grosse-bullenmarkt-von-2024-2030-2/
SUMMARY:Trend - Emotion - Timing
DESCRIPTION:Oliver Reiss_250911_TrendEmotionTiming_DDorf\n\n\n\nWO: Hotel T
 ribe\, Graf-Adolf-Straße 81\, Düsseldorf\n\nWANN: Do\, 11.09.2025 18:30 
 (Einlass ab 18:00) h\n\nWAS: Dr. Oliver Reiß: Trend - Emotion - Timing\n\
 nEs gibt grundsätzliche Gegensätze in den Finanzmärkten: Kurzfristig gi
 bt es eine Tendenz zu Gegenbewegungen\, mittelfristig überwiegt das Trend
 verhalten. Daher werden Trendfolge-Signale zu ungünstigen Zeitpunkten gen
 eriert\, also Kauf-Signale wenn der Markt grade überkauft ist. Im Rahmen 
 einer Analyse der Daten der Aktien aus dem S&amp\;P 500 wird dieses Verhal
 ten nachgewiesen und neue Indikatoren etabliert\, die dieses Problem löse
 n. Darüber hinaus ergeben sich mit diesen Indikatoren zwei verschiedene A
 nwendungsfälle: Zum einen kann der "Markt der Aktien" neu dargestellt wer
 den und zum anderen ermöglicht dieser Ansatz auch die Anwendung der klass
 ischen Portfolio-Theorie.\n\nOliver Reiß ist Doktor der Mathematik\, Unte
 rnehmensberater für Banken\, IFTA-Vorstand und stellvertretender Regional
 leiter Düsseldorf. Seinen Votrag hat er in einer 45 Min-Kurzversion am 7.
  Mai in Costa Mesa (Kalifornien) auf der Konferenz der NAAIM (National Ass
 oziation of Active Investment Managers) gehalten\, da er für diese Arbeit
  mit dem diesjährigen Founders Award ausgezeichnet wurde. Hier der Link z
 ur offiziellen Pressemitteilung der NAIIM:\n\nhttps://www.prweb.com/releas
 es/naaim-2025-founders-award-white-paper-winner-offers-a-new-way-to-chart-
 individual-stock-opportunities-and-estimate-return-302453531.html
CATEGORIES:Düsseldorf
END:VEVENT
BEGIN:VTIMEZONE
TZID:Europe/Berlin
X-LIC-LOCATION:Europe/Berlin
BEGIN:DAYLIGHT
DTSTART:20250330T030000
TZOFFSETFROM:+0100
TZOFFSETTO:+0200
TZNAME:CEST
END:DAYLIGHT
END:VTIMEZONE
END:VCALENDAR