BEGIN:VCALENDAR
VERSION:2.0
PRODID:-//wp-events-plugin.com//7.2.3.1//EN
TZID:Europe/Berlin
X-WR-TIMEZONE:Europe/Berlin
BEGIN:VEVENT
UID:1049@vtad.de
DTSTART;TZID=Europe/Berlin:20251009T183000
DTEND;TZID=Europe/Berlin:20251009T204500
DTSTAMP:20250723T185226Z
URL:https://www.vtad.de/rgt/die-married-put-und-high-watermark-put-strateg
 ien-hohe-renditen-ohne-risiko-ein-traum-wird-realitaet/
SUMMARY:Die "married Put" und "high watermark Put" Strategien: Hohe Rendite
 n ohne Risiko - ein Traum wird Realität
DESCRIPTION:Anhand von realen Trades liefert der Referent den Beweis wie ma
 n 30-40% Renditen mit der Kombination von Aktien und Optionen erreicht. Da
 bei ist das Risiko entweder gar nicht vorhanden oder nur minimal und volls
 tändig unter Kontrolle.\n\nOptionen gelten oft als komplexes und risikore
 iches Finanzinstrument\, doch bei richtiger Anwendung können sie ein äu
 ßerst effektives Werkzeug zur Risikokontrolle und Absicherung im Portfoli
 o sein. In diesem Vortrag zeigt Gerd seine Strategien\, die einen besonder
 en Fokus auf Sicherheit und der Beherrschung von Risiken haben.\n\n„Egal
 \, ob Einsteiger oder bereits erfahrener Anleger\, dieser Vortrag wird hel
 fen\, die Grundlagen und die Praxis von Put Optionen besser zu verstehen. 
 Gerade vor dem Hintergrund der gekippten Verlustverrechnungsbeschränkung 
 ergeben sich jetzt auch für private Investoren und Familien Stiftungen ex
 trem lukrative Möglichkeiten.\n\nNach einer kurzen Erklärung der Put Opt
 ion beginne ich mit der married Put Strategie die komplett ohne Risiko geh
 andelt werden kann. Ja\, richtig gelesen - kein Verlustrisiko.\n\nAls zwei
 te Strategie wird dann die high watermark Put Strategie vorgestellt. Anhan
 d von realen Trades aus meinem Depot zeige ich detailliert Schritt für Sc
 hritt wie ich bei minimalem Risiko mit Oracle Aktien in Kombination mit Op
 tionen über 40% p.a. erreicht habe.\n\nZiel dieses Vortrags ist es\, nich
 t nur das Handwerkszeug zu vermitteln\, sondern auch das Vertrauen zu gebe
 n\, Optionen als sinnvolles und sicheres Element einzusetzen.\n\nIch zeige
 \, wie man mit durchdachten Entscheidungen und effektiver Risikokontrolle 
 die Möglichkeiten von Optionen ausschöpfen kann\, ohne dabei unnötige R
 isiken einzugehen.“
CATEGORIES:Düsseldorf
END:VEVENT
BEGIN:VTIMEZONE
TZID:Europe/Berlin
X-LIC-LOCATION:Europe/Berlin
BEGIN:DAYLIGHT
DTSTART:20250330T030000
TZOFFSETFROM:+0100
TZOFFSETTO:+0200
TZNAME:CEST
END:DAYLIGHT
END:VTIMEZONE
END:VCALENDAR