BEGIN:VCALENDAR
VERSION:2.0
PRODID:-//wp-events-plugin.com//7.2.3.1//EN
TZID:Europe/Berlin
X-WR-TIMEZONE:Europe/Berlin
BEGIN:VEVENT
UID:995@vtad.de
DTSTART;TZID=Europe/Berlin:20250220T183000
DTEND;TZID=Europe/Berlin:20250220T204500
DTSTAMP:20250204T175752Z
URL:https://www.vtad.de/rgt/drachenjahre-vom-frueheren-daytrader-ueber-das
 -finanzimperium-zum-erfolgreichen-trader-nach-dem-gefaengnis/
SUMMARY:„Drachenjahre": Vom früheren Daytrader über das Finanzimperium 
 zum erfolgreichen Trader nach dem Gefängnis
DESCRIPTION:Vom Daytrader in den 90ern zum Verwalter von 100 Millionen US-D
 ollar\, anschließend zum Spiegel-Bestseller-Autor und Daytrading-Profi.\n
 \n„Bereits in den 90ern begann ich meine Karriere als Daytrader\, und le
 gte damit den Grundstein für meinen späteren Erfolg. Nach dem Aufbau ein
 es Finanzimperiums in China\, wo ich über 100 Millionen US-Dollar managte
 \, nahm mein Leben eine dramatische Wendung: Ich verbrachte sieben Jahre u
 nd sieben Monate in einem chinesischen Gefängnis. Diese Erfahrungen habe 
 ich in meinem Spiegel-Bestseller "Drachenjahre" verarbeitet.\n\nNach meine
 r Freilassung startete ich mein Trading erneut - diesmal auf einem ganz ne
 uen Niveau. Mit VWAP\, Orderflow und Heatmap-Analysen nutze ich heute inno
 vative Strategien\, um auf den Märkten profitabel zu handeln.\n\nIn diese
 m Vortrag erzähle ich\, wie diese Herausforderungen mich zu einem bessere
 n Trader gemacht haben\, der heute Märkte in Echtzeit analysiert und erfo
 lgreich handelt.“\n\nÜber Robert Rother:\n\nRobert Rother ist Daytrader
  und internationaler Unternehmer.\n\nBekannt wurde er durch seinen Spiegel
 -Bestseller „Drachenjahre“\, der den Aufbau eines Finanzimperiums in C
 hina und seine sieben Jahre und sieben Monate lange\, unschuldige Haft dor
 t beschreibt.\n\nRobert Rother ist seit fast 30 Jahren an den internationa
 len Finanzmärkten tätig\, hat zwei Investmentfirmen mitgegründet und ü
 ber 100 Millionen US-Dollar in China verwaltet. Damals in China hatte er e
 in Team von 30 Tradern und Analysten unter sich\, und sein bester Tag wäh
 rend der Finanzkrise brachte ihm einen Gewinn von 800.000 US-Dollar ein.\n
 \nDerzeit baut Robert Rother Trading-Communities auf Deutsch und Englisch 
 auf\, und ist auf den Handel mit CFDs\, Futures\, Aktien und Private Equit
 y fokussiert.
CATEGORIES:Düsseldorf
END:VEVENT
BEGIN:VTIMEZONE
TZID:Europe/Berlin
X-LIC-LOCATION:Europe/Berlin
BEGIN:STANDARD
DTSTART:20241027T020000
TZOFFSETFROM:+0200
TZOFFSETTO:+0100
TZNAME:CET
END:STANDARD
END:VTIMEZONE
END:VCALENDAR