BEGIN:VCALENDAR
VERSION:2.0
PRODID:-//wp-events-plugin.com//7.2.3.1//EN
TZID:Europe/Berlin
X-WR-TIMEZONE:Europe/Berlin
BEGIN:VEVENT
UID:793@vtad.de
DTSTART;TZID=Europe/Berlin:20240208T183000
DTEND;TZID=Europe/Berlin:20240208T210000
DTSTAMP:20240201T134307Z
URL:https://www.vtad.de/rgt/edelmetalle-2/
SUMMARY:Investieren in Edelmetalle
DESCRIPTION:Thema: Investieren in Edelmetalle\nEdelmetalle wurden in den v
 ergangenen Jahren nur stiefmütterlich behandelt und gerade von Deutschen 
 Anlegern verschmäht. Dabei giert die ganze Welt immer mehr nach Gold. Zen
 tralbanken kaufen so viel Gold wie lange nicht mehr\, China kauft gar zu P
 reisen über dem offiziellen Weltmarktpreis. Warum ist dies so? Welche „
 Probleme“ kann Gold lösen? Warum könnte es durch die BRICS zu einem ex
 tremen Wandel im Finanzsystem kommen? Ist dieses Finanzsystem wirklich am 
 Ende und wenn es das ist\, kann Gold uns hiervor schützen?\n\nFür uns An
 leger stellen sich hierbei am Ende folgende Fragen:\n\n 	warum sollte man 
 Edelmetalle in sein Depot werfen\, wenn diese doch gar keine Rendite abwer
 fen?\n 	in welche Edelmetalle sollte man investieren?\n 	in welcher Form s
 ollte man in Edelmetalle investieren?\n 	gibt es Zyklen und saisonale Must
 er die wir nutzen können?\n 	ist es möglich auch Trading mit Edelmetalle
 n zu betreiben und helfen uns hierbei die CoT-Daten?\n 	wie kann man Gold-
 Minen als „Edelmetallersatz“ nutzen und wie findet man interessante M
 inen?\n\nMarco Freundl versucht an diesem Abend in seinem Vortrag „Inve
 stieren in Edelmetalle“ auf diese und weitere spannende Fragen zur Anla
 ge in Edelmetallen Antworten zu finden.\n\nEdelmetalle gehören in jedes D
 epot. Das wusste schon der französische Philosoph und Schriftsteller Volt
 aire: „Papiergeld kehrt früher oder später zu seinem inneren Wert zur
 ück – Null.“\nIhr Referent\nMarco Freundl\, Dipl.-Betriebswirt (FH)\
 , Dipl.-Volkswirt (Univ.)\, schloss sein Betriebswirtschaftsstudium mit Au
 szeichnung und Studium der VWL mit Note „Gut“ ab. Sein Studien- und In
 teressensschwerpunkt lag auf dem Bereich Finance und Börsengeschichte. Se
 it geraumer Zeit ist er nun in diesem Bereich selbständig tätig und verf
 ügt mittlerweile über mehr als fünfzehn Jahre Erfahrung im Trading und 
 Research. Seit 2007 publiziert Herr Freundl regelmäßig auf verschiedenen
  Finanz- und Rohstoffportalen und vertreibt über www.bayerngold.com einen
  erfolgreichen Börsenbrief. Als Geschäftsführer von BayernGold verwalte
 t er eigene Wikifolios\, welche auf den Handelsideen seiner Gesellschaft b
 eruhen.\n\nDarüber hinaus ist er gerngesehener Fachreferent auf Treffen d
 er VTAD-Regionalgruppen und anderer privater Finanztreffen. Auch wird von 
 ihm ein eigener kostenloser Stammtisch veranstaltet\, welcher das Ziel der
  Aufklärung über Finanzmärkte verfolgt. Ferner entwickelt er eigene Ind
 ikatoren\, die so nicht oder nur selten im Internet zu finden sind und dah
 er eine hohe Aussagekraft haben.
CATEGORIES:Stuttgart
LOCATION:Haus der Wirtschaft
X-APPLE-STRUCTURED-LOCATION;VALUE=URI;X-ADDRESS= Willi-Bleicher-Straße 19\
 , Stuttgart\, 71174\, Deutschland;X-APPLE-RADIUS=100;X-TITLE=Haus der Wirt
 schaft:geo:0,0
END:VEVENT
BEGIN:VTIMEZONE
TZID:Europe/Berlin
X-LIC-LOCATION:Europe/Berlin
BEGIN:STANDARD
DTSTART:20231029T020000
TZOFFSETFROM:+0200
TZOFFSETTO:+0100
TZNAME:CET
END:STANDARD
END:VTIMEZONE
END:VCALENDAR