BEGIN:VCALENDAR
VERSION:2.0
PRODID:-//wp-events-plugin.com//7.2.3.1//EN
TZID:Europe/Berlin
X-WR-TIMEZONE:Europe/Berlin
BEGIN:VEVENT
UID:839@vtad.de
DTSTART;TZID=Europe/Berlin:20240314T000000
DTEND;TZID=Europe/Berlin:20240314T200000
DTSTAMP:20240219T084410Z
URL:https://www.vtad.de/rgt/edelmetalle-wie-und-wann-einstigen/
SUMMARY:Edelmetalle - wie und wann einsteigen?
DESCRIPTION:Bei unserem letzten Treffen im Februar hat uns Marco Freundl vi
 ele Argumente für Investments in Edelmetalle präsentiert.\n\nFolgen wir 
 seiner Argumentation\, stellen sich zwei Fragen:\n\n 	Wann ist ein guter Z
 eitpunkt für ein Investment? Um das Timing für den geplanten Einstieg zu
  verbessern\, verwenden wir technische Analyse. Wir analysieren nach allen
  Regeln der technischen Analyse den Chart. Wir bestimmen den aktuellen Tre
 nd\, wir definieren wichtige Unterstützungs- und Widerstandszonen\, wir v
 erwenden (sparsam) Indikatoren und entwerfen ein Einstiegsszenario.\n 	Wom
 it wollen wir in Edelmetalle investieren?\nHier haben wir die Wahl der Qua
 l: Physisch in Form von Münzen oder über „Papier“?\nWie wähle ich e
 in passendes Zertifikat oder einen passenden Optionsschein aus?\n\nUnd vie
 les mehr ... abhängig von Euren Anregungen und Fragen.\n\nEure aktive Tei
 lnahme ist erwünscht!
CATEGORIES:Stuttgart
LOCATION:Haus der Wirtschaft
X-APPLE-STRUCTURED-LOCATION;VALUE=URI;X-ADDRESS= Willi-Bleicher-Straße 19\
 , Stuttgart\, 71174\, Deutschland;X-APPLE-RADIUS=100;X-TITLE=Haus der Wirt
 schaft:geo:0,0
END:VEVENT
BEGIN:VTIMEZONE
TZID:Europe/Berlin
X-LIC-LOCATION:Europe/Berlin
BEGIN:STANDARD
DTSTART:20231029T020000
TZOFFSETFROM:+0200
TZOFFSETTO:+0100
TZNAME:CET
END:STANDARD
END:VTIMEZONE
END:VCALENDAR