BEGIN:VCALENDAR
VERSION:2.0
PRODID:-//wp-events-plugin.com//7.2.3.1//EN
TZID:Europe/Berlin
X-WR-TIMEZONE:Europe/Berlin
BEGIN:VEVENT
UID:915@vtad.de
DTSTART;TZID=Europe/Berlin:20241114T183000
DTEND;TZID=Europe/Berlin:20241114T204500
DTSTAMP:20241005T093600Z
URL:https://www.vtad.de/rgt/elliott-and-friends/
SUMMARY:Elliott and Friends
DESCRIPTION:Rüdiger Born: Elliott and Friends\n\nViele kennen die Elliott 
 Wellen als ein Profiwerkzeug bei der Analyse der Charts. Dennoch scheint d
 ie praktische Umsetzung im Trading nicht einfach. Daher liegt es auf der H
 and\, etablierte charttechnische Methoden mit den Ideen Elliotts zu verbin
 den. Rüdiger Born zeigt in seinem Vortrag\, welche Kombinationen besonder
 s sinnvoll erscheinen und welche er als Händler selbst verwendet.\n\nNebe
 n dem Trading ist Rüdiger Born\, der in Tokyo und Frankfurt lebt\, Berate
 r für verschiedene Börsen\, Banken und Finanzdienstleister weltweit. Zud
 em engagiert er sich in Seminaren und Coachings und ganz besonders im Rahm
 en von BORN-4-Trading auch für private Trader.
CATEGORIES:Düsseldorf
END:VEVENT
BEGIN:VTIMEZONE
TZID:Europe/Berlin
X-LIC-LOCATION:Europe/Berlin
BEGIN:STANDARD
DTSTART:20241027T020000
TZOFFSETFROM:+0200
TZOFFSETTO:+0100
TZNAME:CET
END:STANDARD
END:VTIMEZONE
END:VCALENDAR