BEGIN:VCALENDAR
VERSION:2.0
PRODID:-//wp-events-plugin.com//7.2.3.1//EN
TZID:Europe/Berlin
X-WR-TIMEZONE:Europe/Berlin
BEGIN:VEVENT
UID:567@vtad.de
DTSTART;TZID=Europe/Berlin:20220922T183000
DTEND;TZID=Europe/Berlin:20220922T200000
DTSTAMP:20220914T063427Z
URL:https://www.vtad.de/rgt/elliott-waves-2/
SUMMARY:Elliott-Waves & Live-Trading
DESCRIPTION:Live-Trading:\nPermanente Spannung im 1 Minutenchart des Nasdaq
  100 und des S&amp\;P500 auf Basis von Ichimoku und Elliott-Wellen. Welche
  Bewegung ist die nächste und wie kann man diese am geschicktesten traden
 ? Die beiden Experten Ronny Raudies und Christopher Richter von "ElliottWe
 llenTheorie.de" versuchen im Live Trading ein paar Punkte während der Ver
 anstaltung aus dem Markt zu schneiden\, auch Scalping genannt. Das Ganze b
 asiert auf Kursmuster\, Unterstützungen und Widerstände aus dem Bereich 
 der Ichimoku Kinko Hyo Theorie und mit den jeweiligen Kursausdehnungen der
  Elliott Wellen Theorie. Verpassen Sie keinen Trade!\nElliott-Wellen-Theor
 ie:\nDie Elliott-Wellen-Theorie ist eine Methode der Technischen Analyse\,
  welche hilft\, Kursmuster zu identifizieren und zukünftige Trends zu pro
 gnostizieren. Bei diesem Methode der Technische Analyse lassen sich Kursmu
 ster in Impulswellen und Korrekturwellen einteilen. Impulswellen sind Bewe
 gungen\, die sich stetig in eine Richtung ausdehnen. Ronny Raudies und Chr
 istopher Richter zeigen auf\, wie sich ein solcher Trend aufbaut\, wie Sie
  diese Bewegungen erkennen und welche potentiellen Tücken gegebenenfalls 
 zu beachten sind.\n\nRonny Raudies ist gelernter Bankkaufmann und zertifiz
 ierter Finanzberater der Universität Passau. Sein Interesse für die Akti
 enmärkte wurde 1996 während seiner Bankausbildung durch die Gründung ei
 nes Börsen-Clubs geweckt. Zurzeit schließt er die Ausbildung zum CFTe (z
 ertifizierter technischer Analyst) ab. Zudem ist er Ansprechpartner für V
 ermögensverwaltungen im Bereich der technischen Analyse von Indizes\, Akt
 ien\, Rohstoffen und Währungen. Hierbei nutzt er die Möglichkeiten der t
 echnischen Analyse\, insbesondere die Elliott-Wellen-Theorie\, um Kursbewe
 gungen zu bestimmen.\n\nChristopher Richter ist Diplom-Ökonom\, Trader\, 
 Analyst und Berater. Sein Studium der Wirtschaftswissenschaften hat sein F
 euer für die Börse und die Finanzmärkte entfacht. Mit intensivem Selbst
 studium und diversen Seminaren hat er die Feinheiten der Chart Analyse erl
 ernt und sich dabei auf die Elliott-Wellen-Theorie spezialisiert. Mit der 
 Einhaltung von Regeln und dem entsprechenden Mut helfen die Elliott-Wellen
 \, an den Kursbewegungen zu profitieren. Der Fokus liegt dabei auf kurz- a
 ls auch langfristigen Analysen von Indizes\, Aktien\, Rohstoffen und Währ
 ungen.\n\nVTAD Fördermitglied: https://www.elliottwellentheorie.de/
CATEGORIES:Stuttgart
LOCATION:Haus der Wirtschaft
X-APPLE-STRUCTURED-LOCATION;VALUE=URI;X-ADDRESS= Willi-Bleicher-Straße 19\
 , Stuttgart\, 71174\, Deutschland;X-APPLE-RADIUS=100;X-TITLE=Haus der Wirt
 schaft:geo:0,0
END:VEVENT
BEGIN:VTIMEZONE
TZID:Europe/Berlin
X-LIC-LOCATION:Europe/Berlin
BEGIN:DAYLIGHT
DTSTART:20220327T030000
TZOFFSETFROM:+0100
TZOFFSETTO:+0200
TZNAME:CEST
END:DAYLIGHT
END:VTIMEZONE
END:VCALENDAR