BEGIN:VCALENDAR
VERSION:2.0
PRODID:-//wp-events-plugin.com//7.2.3.1//EN
TZID:Europe/Berlin
X-WR-TIMEZONE:Europe/Berlin
BEGIN:VEVENT
UID:909@vtad.de
DTSTART;TZID=Europe/Berlin:20241212T183000
DTEND;TZID=Europe/Berlin:20241212T203000
DTSTAMP:20240920T121108Z
URL:https://www.vtad.de/rgt/emotionen-meistern-klarheit-gewinnen-der-schlu
 essel-zu-mehr-erfolg-und-disziplin-im-trading/
SUMMARY:Emotionen meistern\, diszipliniert traden: Der Weg zum Erfolg
DESCRIPTION:In der Welt des Tradings spielen nicht nur technische Analysen 
 und Strategien eine entscheidende Rolle\, sondern und vor allem auch die P
 sychologie des Traders. Dieser Vortrag beleuchtet die emotionalen und verh
 altensbasierten Muster\, die sich im Trading häufig wiederholen. Emotione
 n werden dabei oft als „Feind“ angesehen. Obwohl sie das Potenzial hab
 en unsere Handelsentscheidungen negativ zu beeinflussen und damit großen 
 Schaden anzurichten\, brauchen wir sie am Ende sogar\, um erfolgreich zu s
 ein.\n\nWir gehen auf die Ursprünge von Emotionen wie Angst und Gier ein\
 , ihre Ursachen und ihre Funktion im Entscheidungsprozess. Dabei klären w
 ir auch\, welche Mythen es rund um Emotionen und Disziplin im Trading gibt
 . Ziel des Vortrags ist es\, Trader und Anleger ein tieferes Verständnis 
 für ihre Emotionen und ihren Ursprung zu vermitteln. Es soll dazu anzureg
 en\, die eigenen Verhaltensmuster zu reflektieren und zu erkennen\, wie di
 ese ihre Entscheidungen beeinflussen.\n\nAbschließend werden praktische A
 nsätze vorgestellt\, wie diese Muster identifiziert und bewusst bearbeite
 t werden können\, um langfristig diszipliniertere und erfolgreichere Hand
 elsstrategien zu entwickeln.\n\nChristian Aumiller ist Wirtschaftspsycholo
 ge\, zertifizierter Coach und seit 2016 ein leidenschaftlicher Börsianer.
  Was als autodidaktisches Projekt begann\, entwickelte sich durch kontinui
 erliches Lernen und den intensiven Austausch mit erfahrenen Händlern zu e
 inem umfangreiches Fachwissen in den Bereichen Trading und Finanzmärkte.\
 n\nSeit 2021 widmet er sich in Vollzeit dem Trading\, sowie als Börsenana
 lyst und Performance-Coach. Zuvor sammelte er wertvolle Erfahrungen in der
  Unternehmensberatung und im Führungskräftecoaching. Mit seiner Begeiste
 rung für Finanzen\, Geldanlagen und die Börse teilt er sein Wissen in Fo
 rm von Coachings\, Mentoring und praxisnahen Finanzbildungsangeboten. Sein
  Ziel ist es\, anderen zu helfen\, ihre finanzielle Kompetenz zu erweitern
  und nachhaltige Erfolge zu erzielen.\n\nDurch seine Ausbildung und eigene
  Erfahrungen am Markt blieben die Psychologie des Traders und Marktes stet
 s im Fokus und und er legt daher besonderen Wert auf die mentale Komponent
 e des Tradings.
CATEGORIES:Stuttgart
LOCATION:Haus der Wirtschaft
X-APPLE-STRUCTURED-LOCATION;VALUE=URI;X-ADDRESS= Willi-Bleicher-Straße 19\
 , Stuttgart\, 71174\, Deutschland;X-APPLE-RADIUS=100;X-TITLE=Haus der Wirt
 schaft:geo:0,0
END:VEVENT
BEGIN:VTIMEZONE
TZID:Europe/Berlin
X-LIC-LOCATION:Europe/Berlin
BEGIN:STANDARD
DTSTART:20241027T020000
TZOFFSETFROM:+0200
TZOFFSETTO:+0100
TZNAME:CET
END:STANDARD
END:VTIMEZONE
END:VCALENDAR