BEGIN:VCALENDAR
VERSION:2.0
PRODID:-//wp-events-plugin.com//7.2.3.1//EN
TZID:Europe/Berlin
X-WR-TIMEZONE:Europe/Berlin
BEGIN:VEVENT
UID:1003@vtad.de
DTSTART;TZID=Europe/Berlin:20250918T181500
DTEND;TZID=Europe/Berlin:20250918T203000
DTSTAMP:20250919T071249Z
URL:https://www.vtad.de/rgt/etf-war-gestern-den-standardmarkt-langfristig-
 outperformen-bei-gleichzeitig-sicherem-kapitalverlauf/
SUMMARY:ETF war gestern: Den Standardmarkt langfristig outperformen bei gle
 ichzeitig sicherem Kapitalverlauf
DESCRIPTION:Vortragsunterlagen (bitte einloggen!): [members_logged_in] vort
 rag_vtad_nuernberg[/members_logged_in]\n\nIn einer Welt\, in der geopoliti
 sche Unruhen oder epidemische Krisen jederzeit die Märkte erschüttern k
 önnen\, gilt es als essenziell\, ein robustes Fundament zu schaffen\, das
  auch in unruhigen Zeiten trägt. Unser Referent zeigt\, wie sich ein kris
 enresistentes Portfolio aufbauen lässt\, das Stabilität\, geringe Volati
 lität und einen niedrigen maximalen Drawdown mit der Chance auf langfrist
 ige Outperformance verbindet. Klassische ETFs spielen dabei nur eine unter
 stützende Rolle – der Fokus liegt auf ausgewählten Unternehmen\, die g
 erade in turbulenten Marktphasen ihre Widerstandskraft unter Beweis stelle
 n und ihr volles Potenzial genau dann entfalten\, wenn der breite Markt un
 ter Druck steht.\n\nDie Teilnehmenden sehen in anschaulichen Charts inklus
 ive Backtests\, welche Aktien stabil bleiben\, und erhalten Einblicke in d
 ie grundlegenden Eigenschaften dieser Unternehmen. Darauf basierend wird e
 in Kernportfolio aufgebaut\, welches durch unterstützende ETFs ergänzt w
 ird.\n\nMit systematischem\, regelbasiertem Risk- &amp\; Money-Management\
 , gesteuert entlang der „Efficient Frontier“ zur Ermittlung der maxima
 len Sharpe Ratio und abgesichert durch eine „Monte-Carlo-Robust Optimier
 ung“\, entsteht ein Portfolio\, das das Verhältnis von Risiko und Ertra
 g optimal austariert – ohne Hedging über Short-Konstrukte oder komplexe
  Derivate-Strategien.\n\nIhr Referent:\n\nPatrick Oster\, ein junger Ingen
 ieur und professioneller Trader\, tauchte während der „Gamestop-Ära“
  in die Finanzmärkte ein und fragte sich\, wie zuverlässig die Stimmung 
 in sozialen Medien die Aktienkurse beeinflussen kann. Diese Frage führte 
 zu seinem ersten Trading-Algorithmus und markierte den Beginn seiner Leide
 nschaft für die Börse. Heute leitet Patrick Oster als Experte für „Al
 gorithmic-Trading“ das Fintech muf:fin gemeinsam mit seinem geschätzt
 en Freund und Kollegen Marco Freundl (BayernGold). muf:fin erleichtert A
 nlegern den Zugang zu den Märkten durch innovative Algorithmen\, Tools un
 d Indikatoren. Neben einem monatlichen Aktien- und Rohstoffreport bietet d
 as Unternehmen auch einen selbstentwickelten RSL-Screener sowie maßgeschn
 eiderte Softwarelösungen für Privatanleger und Firmen.\n\nPatrick Oster 
 teilt sein Wissen regelmäßig durch Vorträge\, Seminare und individuelle
  Coachings.
CATEGORIES:Nürnberg
LOCATION:eckstein haus der evang.-luth. kirche nürnberg
X-APPLE-STRUCTURED-LOCATION;VALUE=URI;X-ADDRESS=Burgstrasse 1-3\, Raum 1.01
 \, Nürnberg\, 90403 \, Bayern\, Deutschland;X-APPLE-RADIUS=100;X-TITLE=ec
 kstein haus der evang.-luth. kirche nürnberg:geo:0,0
END:VEVENT
BEGIN:VTIMEZONE
TZID:Europe/Berlin
X-LIC-LOCATION:Europe/Berlin
BEGIN:DAYLIGHT
DTSTART:20250330T030000
TZOFFSETFROM:+0100
TZOFFSETTO:+0200
TZNAME:CEST
END:DAYLIGHT
END:VTIMEZONE
END:VCALENDAR