BEGIN:VCALENDAR
VERSION:2.0
PRODID:-//wp-events-plugin.com//7.2.3.1//EN
TZID:Europe/Berlin
X-WR-TIMEZONE:Europe/Berlin
BEGIN:VEVENT
UID:764@vtad.de
DTSTART;TZID=Europe/Berlin:20240320T183000
DTEND;TZID=Europe/Berlin:20240320T210000
DTSTAMP:20240321T203720Z
URL:https://www.vtad.de/rgt/fibonacci/
SUMMARY:Fibonacci - Das Profi-Tool
DESCRIPTION:Vortragsunterlagen (für Mitglieder\, bitte einloggen): [member
 s_logged_in] Fibo - VTAD Nuernberg 2024[/members_logged_in]\n\nVor ca. 800
  Jahren hat der Gelehrte Leonardo di Pisa – genannt Fibonacci – eine Z
 ahlenreihe entdeckt\, die sich zu einem der wichtigsten Tools im Börsenha
 ndel gemausert hat. Gerade in Zeiten neuer Allzeithochs können mit den Fi
 bonacci-Ratio’s Kursziele im uncharted territory bestimmt werden. Und mi
 t erstaunlicher Präzision werden diese Kursziele auch erreicht!\n\nNicht 
 nur höhere Hochs\, auch Korrekturlevels können bei Indizes\, Aktien\, W
 ährungen oder Rohstoffen bestimmt werden. An diesen Kurslevels finden dan
 n in aller Regelmäßigkeit Kurswenden statt und bieten damit hervorragend
 e Handelsmöglichkeiten. Der Vortrag von Karin Roller zeigt Ihnen praxisna
 h\, wie Sie die Fibonacci-Levels für Ihr Trading gewinnbringend einsetzen
  können. Wie Sie Korrektur-Niveaus\, Stop-Level und Gewinnziele bestimmen
  und die Fibonacci-Tools dann sofort zu Hause anwenden können.\n\nKarin R
 oller ist Traderin\, Autorin\, Mitglied des Vorstands der VTAD e. V.\, lei
 tet die Regionalgruppe Stuttgart und ist Board Member der IFTA (Internatio
 nal Federation of Technical Analysts) . Für ihr tägliches Trading ist da
 s wichtigste technische Analysetool Fibonacci in Kombination mit Ichimoku 
 Kinko Hyo und Elliott-Waves.\nMehr Infos unter www.boersen-knowhow.de
CATEGORIES:Nürnberg
LOCATION:eckstein haus der evang.-luth. kirche nürnberg
X-APPLE-STRUCTURED-LOCATION;VALUE=URI;X-ADDRESS=Burgstrasse 1-3\, Raum 1.01
 \, Nürnberg\, 90403 \, Bayern\, Deutschland;X-APPLE-RADIUS=100;X-TITLE=ec
 kstein haus der evang.-luth. kirche nürnberg:geo:0,0
END:VEVENT
BEGIN:VTIMEZONE
TZID:Europe/Berlin
X-LIC-LOCATION:Europe/Berlin
BEGIN:STANDARD
DTSTART:20231029T020000
TZOFFSETFROM:+0200
TZOFFSETTO:+0100
TZNAME:CET
END:STANDARD
END:VTIMEZONE
END:VCALENDAR