BEGIN:VCALENDAR
VERSION:2.0
PRODID:-//wp-events-plugin.com//7.2.3.1//EN
TZID:Europe/Berlin
X-WR-TIMEZONE:Europe/Berlin
BEGIN:VEVENT
UID:607@vtad.de
DTSTART;TZID=Europe/Berlin:20221025T183000
DTEND;TZID=Europe/Berlin:20221025T200000
DTSTAMP:20221010T115402Z
URL:https://www.vtad.de/rgt/foerdermitglieder-stellen-sich-vor-lenz-partne
 r-tai-pan-boersensoftware/
SUMMARY:Fördermitglieder stellen sich vor: Lenz + Partner - TAI-PAN Börse
 nsoftware
DESCRIPTION:ACHTUNG:\n\nAuch VTAD-Mitglieder müssen sich für dieses Webin
 ar über diesen Link bei Zoom registrieren!\n\n&nbsp\;\n\nBörsensoftware 
 TAI-PAN\n\nEs gibt tausenden von Aktien. Aber wie finde ich aus tausenden 
 von Aktien genau die Aktien heraus\, die meinen Kriterien entsprechen? Wie
  finde ich Aktien\, die in mein Depot passen? Diese Frage haben Sie sich b
 estimmt schon öfter gestellt. Und um diese Fragen zu klären\, hilft Ihne
 n das TAI-PAN Filtermodul weiter. Frank Rohmann erklärt Ihnen\, wie sie d
 as TAI-PAN Filtermodul effizient und zeitsparend einsetzten\, um die beste
 n Aktien herauszufiltern.\n\nHaben sie die Aktien gefunden\, die Ihren Kri
 terien entsprechen? Dann haben Sie womöglich mehrere Treffer gelandet. Ab
 er welche Aktien davon versprechen den größten Erfolg? Jetzt kommt es da
 rauf an\, aus dieser Liste\, die Aktien aufzulisten\, die das größte Pot
 ential versprechen. Und hier kommen die TAI-PAN Listen und Rankings ins Sp
 iel. Damit listen Sie die Aktien auf und ranken diese nach bestimmten Krit
 erien.\n\nDie Technische Chartanalyse ist ein hervorragendes Timing-Instru
 ment. TAI-PAN verfügt über eine umfangreiche Palette von Funktionen und 
 Auswertungen für eine detaillierte Technische Chartanalyse. Frank Rohmann
  zeigt Ihnen\, wie Sie Indikatoren\, Fibonacci-Linien oder die Ichimoku Ki
 nko Hyo Wolken nutzen\, um gezielte Einstiegszeitpunkte zu finden.\n\nRohs
 toffe\, Indizes und viele andere Werte weisen regelmäßig wiederkehrende 
 saisonale Verlaufsmuster auf. Immer gleiche Kursmuster sind hervorragende 
 Handelschancen\, die Sie nutzen sollten. Solche Kursmuster eignen sich bes
 onders gut für die Abstimmung von Ein- und Ausstiegspunkten. Frank Rohman
 n erklärt Ihnen\, wie die TAI-PAN Seasonalanalyse funktioniert und wie Si
 e diese effektiv für Ihr Trading nutzen.\n\nDie Kursdaten von Lenz + Part
 ner sind nicht auf TAI-PAN beschränkt. Mit der Schnittstelle lassen sich 
 die Kurse auch für viele andere Programme und Auswertungen nutzen. Welche
  Möglichkeiten Sie haben\, wird ebenso erklärt.\n\nAnschließend erklär
 t Frank Rohmann TAI-PAN Realtime. Für wen die Software geeignet ist\, wie
  Sie TAI-PAN Realtime effektiv nutzen und welche Unterschiede es zu TAI-PA
 N End of Day gibt.\n\nZum Referenten\n\nFrank Rohmann kennt die Börsenpro
 gramme der Lenz + Partner GmbH durch seine langjährige Tätigkeit im tech
 nischen Support wie kaum ein Zweiter. Mit seinem umfangreichen Hintergrund
 wissen gelingt es ihm regelmäßig\, für die verschiedensten Handelsanfor
 derungen und Analyseansätze praxisnahe Lösungsvorschläge für die Umset
 zung mit der Börsensoftware TAI-PAN End of Day und TAI-PAN Realtime zu er
 stellen.\n\n\n\n\n\nFür dieses Webinar müssen Sie sich auch als VTAD-Mit
 glied über diesen Link bei Zoom registrieren:\n\nNach der Registrierung
  erhalten Sie eine Bestätigungs-E-Mail mit Informationen über die Teilna
 hme am Meeting.\n\nDen Kenncode für das Webinar bekommen Sie mit der Best
 ätigungs-E-Mail.\n\nACHTUNG:\n\nAuch VTAD-Mitglieder müssen sich für di
 eses Webinar bei Zoom registrieren!
CATEGORIES:VTAD Webinar
END:VEVENT
BEGIN:VTIMEZONE
TZID:Europe/Berlin
X-LIC-LOCATION:Europe/Berlin
BEGIN:DAYLIGHT
DTSTART:20220327T030000
TZOFFSETFROM:+0100
TZOFFSETTO:+0200
TZNAME:CEST
END:DAYLIGHT
END:VTIMEZONE
END:VCALENDAR