BEGIN:VCALENDAR
VERSION:2.0
PRODID:-//wp-events-plugin.com//7.2.3.1//EN
TZID:Europe/Berlin
X-WR-TIMEZONE:Europe/Berlin
BEGIN:VEVENT
UID:966@vtad.de
DTSTART;TZID=Europe/Berlin:20251111T183000
DTEND;TZID=Europe/Berlin:20251111T210000
DTSTAMP:20251112T215750Z
URL:https://www.vtad.de/rgt/folgt-103/
SUMMARY:Optionsstrategien mit Trader IQ
DESCRIPTION:Thema:\n"Strategien der Stillhalter - höhere Renditen bei klei
 neren Risiken"\n\nWussten Sie\, dass Sie dafür bezahlt werden können\, e
 ine Aktie kaufen zu wollen? Oder dass Sie Ihre Aktienbestände "vermieten"
  und monatliche Einnahmen kassieren können - unabhängig von den Kursschw
 ankungen der Märkte? Mit dieser Strategie verdienen Sie am Ticken der Uhr
  - planbar\, ohne Stress oder unnötige Risiken.\n\nErfahren Sie\, wie Sie
  mit der sicheren und profitablen Strategie der Stillhalter investieren!\n
 \nSie erhalten eine kompakte Anleitung zu hohen und stabilen Renditen als 
 Stillhalter. Statt zu versuchen\, die zukünftige Kursentwicklung vorherzu
 sagen\, bekommen Sie mit dem Optionshandel regelmäßige Renditen mit mini
 malem Risiko - und geringem Zeiteinsatz.\n\nZum Referenten:\nMike Lis ist 
 Mitglied der VTAD-Gruppe in Hamburg. Mike war in verschiedenen Bereichen d
 er Finanzbranche bereits tätig und verfügt über einen großen Wissenssc
 hatz und langjährige Erfahrung im Trading und Investieren. Als fester Bes
 tandteil der TraderIQ GmbH (Fördermitglied) ist er mit dem Derivatehandel
  bestens vertraut und hält einen Fachvortrag als Optionshändler.\n\n[mem
 bers_logged_in]Vortrag als PDF[/members_logged_in]
ATTACH;FMTTYPE=image/jpeg:https://www.vtad.de/wp-content/uploads/2025/05/a
 -bearded-man-strategically-moves-chess-pieces-while-an-ai-robot-arm-assist
 s-in-a-futuristic-game.-8438923-scaled.jpg
CATEGORIES:Hamburg
LOCATION:CURIO-Haus
X-APPLE-STRUCTURED-LOCATION;VALUE=URI;X-ADDRESS=Rothenbaumchaussee 11\, Ham
 burg\, Hamburg\, 20148 \, Rotherbaum\, Deutschland;X-APPLE-RADIUS=100;X-TI
 TLE=CURIO-Haus:geo:0,0
END:VEVENT
BEGIN:VTIMEZONE
TZID:Europe/Berlin
X-LIC-LOCATION:Europe/Berlin
BEGIN:STANDARD
DTSTART:20251026T020000
TZOFFSETFROM:+0200
TZOFFSETTO:+0100
TZNAME:CET
END:STANDARD
END:VTIMEZONE
END:VCALENDAR