BEGIN:VCALENDAR
VERSION:2.0
PRODID:-//wp-events-plugin.com//7.2.3.1//EN
TZID:Europe/Berlin
X-WR-TIMEZONE:Europe/Berlin
BEGIN:VEVENT
UID:1055@vtad.de
DTSTART;TZID=Europe/Berlin:20260106T190000
DTEND;TZID=Europe/Berlin:20260106T210000
DTSTAMP:20251127T185435Z
URL:https://www.vtad.de/rgt/folgt-105/
SUMMARY:Was würde eine KI wohl zu Ihrem Portfolio sagen?
DESCRIPTION:ChatGPT &amp\; Co. – so genannte Large Language Models (LLM) 
 - haben in wenigen Monaten unsere Arbeitswelt revolutioniert. Doch wir ste
 hen erst am Anfang einer noch größeren Revolution: Die nächste Generati
 on von KI-Systemen hat nicht nur „irgendwie“ Zugriff auf das offene In
 ternet\, sondern auch auf domänenspezifische Daten wie beispielsweise Ihr
  persönliches Portfolio und versteht dabei den Kontext und die Zusammenh
 änge. Aber keine Sorge\, diese hier verwendete KI läuft nur auf Ihrem pe
 rsönlichen Computer\, Ihre Daten sind und bleiben bei Ihnen.\n\n&nbsp\;\n
 \nWillkommen bei Ihrem persönlichen KI-Portfolio-Berater!\n\nStellen Sie 
 sich vor...\n\n…Die KI kennt jedes Detail ihres Portfolios\, kennt alle 
 Ihre offenen Positionen\, kennt Ihre Historie – die KI versteht nicht nu
 r die Zahlen\, sondern auch die Story dahinter.\n\n…Sie fragen einfach i
 n natürlicher Sprache\, per Tastatur oder Mikrofon:\n\n 	"Wie hoch ist me
 in Tech-Exposure über alle Broker?"\n 	"Welche Positionen haben am meiste
 n verloren und warum?"\n 	Wo soll ich für Position xy den SL und TP setze
 n.\nDie KI antwortet: Wegen… würde ich SL und TP so und so setzen.\nDu 
 sagst: Ok\, mach das\n 	Kein ewiges herumklicken auf zig Web-Seiten\, kein
  Excel\, nur menschensprachliche Konversation – in Deutsch oder Englisch
 .\n\n&nbsp\;\n\n…Die KI vernetzt alles in Echtzeit\n\n 	Fundamentaldaten
  Ihrer Assets vs. Wettbewerber\n 	Breaking News mit sofortiger Einordnung 
 für Ihr Portfolio\n 	Analystenmeinungen\, makroökonomische Trends\, tech
 nische Indikatoren\n 	Sentiment-Analyse aus Social Media und News\n 	Konku
 rrenzvergleiche (bspw. ASML vs. Tokyo Electron)\n\nWas früher Stunden Res
 earch in zig Quellen erfordert hat\, ist jetzt in Sekunden analysiert und 
 verständlich – auch grafisch - präsentiert.\n\n&nbsp\;\n\n…Die KI ma
 cht auf Wunsch auch konkrete Handelsvorschläge "Basierend auf den aktuell
 en Quartalszahlen empfehle ich:\n\n 	NVIDIA: Take Profit bei $150 (+25%) 
 – Bewertung ambitioniert\n 	ASML: Position aufstocken – China-Geschäf
 t erholt sich\n 	Tech-Exposure bei 62% – Rebalancing empfohlen"\n\nJede 
 Empfehlung mit Daten und nachvollziehbarer Logik.\n\n&nbsp\;\n\n…Sie beh
 alten die Kontrolle – die KI setzt nur auf Ihren Befehl "Setze die NVIDI
 A-Empfehlung" hin um – erst dann handelt die KI:\n\n 	Optimale Order-Pla
 tzierung berechnen\n 	Limit-Order bei $150 für 200 Aktien setzen\n 	Trail
 ing Stop bei $135 konfigurieren\n 	Ausführungsbestätigung\n\n&nbsp\;\n\n
 Wichtig: Die KI handelt nie eigenständig – nur auf Ihre explizite Anwei
 sung hin. Sie empfiehlt\, Sie entscheiden.\n\n&nbsp\;\n\n…Noch viel mehr
  wird möglich – immer auf Ihre Anweisung\n\n 	Intelligentes Rebalancing
 : "Optimiere mein Portfolio auf 60/40 Aktien/Anleihen"\n 	Tax-Loss Harvest
 ing: "Zeige Verlustpositionen zur Steueroptimierung"\n 	Dividenden-Managem
 ent: "Zeige anstehende Dividenden und schlage Reinvestment vor"\n 	Szenari
 o-Analysen: "Was passiert bei 10% Marktkorrektur?"\n 	Compliance-Checks: "
 Warne mich\, wenn eine Position &gt\;10% wird"\n 	Multi-Account-Analyse: 
 Übersicht über alle Broker\n 	Predictive Insights: Volatilitäts-Warnung
 en basierend auf Mustern\n 	Automatische Reports: Monatliche Performance-D
 okumentation\n\nSie fragen – die KI analysiert. Sie entscheiden – die 
 KI führt aus.\n\n&nbsp\;\n\nUnd wie geht das?\n\nDer Zauberspruch lautet:
  Model Context Protocol (MCP)\n\nDas von Anthropic entwickelte und mittler
 weile von allen namhaften LLMs unterstützte MCP erlaubt strukturierten Zu
 griff auf externe Datenquellen und Funktionen.\nMit den von uns entwickelt
 en MCP-Servern erhalten LLMs auch Zugriff auf Passwort- und 2FA-geschützt
 e Inhalte wie bspw. Ihr Portfolio. Wenn Ihr Broker so genannte API-Schnitt
 stellen anbietet\, können die LLMs strukturierte Daten besser abrufen und
  die Kontexte besser verstehen. Wenn nicht\, funktioniert der Zugriff auf 
 Ihre kostenpflichtigen und daher ebenfalls Passwort- und 2FA-geschützten 
 Lieblings Web Seiten. Das Kontext-Verständnis der KI ist dann unter Umst
 änden nicht mehr so hoch wie bei Verwendung der API-Schnittstellen.\n\n&n
 bsp\;\n\nAber keine Sorge\, die KI bekommt nie Zugriff auf Ihre Passwörte
 r und 2FA. Sie müssen sich wie gewohnt einloggen\, erst danach kann die K
 I zugreifen. Wenn Sie die Sessions beenden\, hat die KI keinen Zugriff meh
 r.\n\n&nbsp\;\n\nDie Demokratisierung von Finanz-Intelligence\n\nWas Hedge
 fonds mit Millionen-Budgets vorbehalten war – Echtzeit-Analysen\, Multi-
 Source-Intelligence\, (halb)automatisiertes Trading – ist jetzt für jed
 en zugänglich.\n\nDie Frage ist nicht mehr OB\, sondern WIE SCHNELL Sie d
 iese Technologie nutzen. Willkommen in der Zukunft. Sie hat gerade erst be
 gonnen.\n\n&nbsp\;\n\nLive-Demo im Vortrag\n\nGezeigt werden Interactive B
 rokers- und Comdirect-Portfolio Anbindungen und Zugriff auf passwort-gesch
 ützte Web-Seiten.\n\nDas Publikum formuliert die Fragen – die KI liefer
 t die Antworten.\n\n&nbsp\;
CATEGORIES:Berlin
LOCATION:H10 Hotel Berlin KuDamm
X-APPLE-STRUCTURED-LOCATION;VALUE=URI;X-ADDRESS=Joachimsthaler Str. 31-32\,
  Berlin\, 10789\, Deutschland;X-APPLE-RADIUS=100;X-TITLE=H10 Hotel Berlin 
 KuDamm:geo:0,0
END:VEVENT
BEGIN:VTIMEZONE
TZID:Europe/Berlin
X-LIC-LOCATION:Europe/Berlin
BEGIN:STANDARD
DTSTART:20251026T020000
TZOFFSETFROM:+0200
TZOFFSETTO:+0100
TZNAME:CET
END:STANDARD
END:VTIMEZONE
END:VCALENDAR