BEGIN:VCALENDAR
VERSION:2.0
PRODID:-//wp-events-plugin.com//7.2.3.1//EN
TZID:Europe/Berlin
X-WR-TIMEZONE:Europe/Berlin
BEGIN:VEVENT
UID:658@vtad.de
DTSTART;TZID=Europe/Berlin:20230306T190000
DTEND;TZID=Europe/Berlin:20230306T210000
DTSTAMP:20230210T152748Z
URL:https://www.vtad.de/rgt/folgt-23/
SUMMARY:Algo-Trading: Reichtum über Nacht? Die Realität von automatischen
  Handelssystemen.
DESCRIPTION:\n\n\n\n\n\n\n\nBereits im Alter von 15 Jahren begann David War
 ney seine Ausbildung in einer Berliner Vermögensverwaltung\, die ausschli
 eßlich eigenes Kapital an der Börse mit automatischen Handelssystemen be
 wegte. Heute (17 Jahre später) ist Hr. Warney den automatischen Handelssy
 stemen sowie dem Trading treu geblieben. In diesem Vortrag bekommen Sie ei
 nen tiefen Einblick in die Welt des Algo-Tradings. Sie erfahren\, wie prof
 itable Handelssysteme im Detail aufgebaut sind\, wie realistische Renditen
  aussehen und bekommen einen konkreten Fahrplan\, wie Sie zeitnah vom Tren
 d der Automatisierung profitieren können.\n \nThemen im Überblick:\n- V
 or- und Nachteile Algo-Trading\n- Arten von Handelssystemen\n- Voll- oder 
 teilautomatisch? Welche Variante passt besser zu mir?\n- Alltag als Algo-T
 rader\n- Wie kann ich mit dem Algo-Trading starten?\n- Wie erkenne ich gut
 e Handelssysteme bzw. Handelsstrategien?\n \nSie möchten von 17 Jahre Er
 fahrungen im (Algo-)Trading profitieren? Dann ist dieser Vortrag genau das
  Richtige für Sie!\n\n\n\n\n\n\n\n\nRegelung für Gäste und Interessiert
 e:\nSchnuppern ist mit vorheriger Anmeldung kostenfrei und erst bei ab der
  zweiten Teilnahme werden 30 € Kostenbeteiligung berechnet. Die Gäste w
 erden gebeten sich beim Regionalmanager per Email unter rm.berlin@vtad.de 
 anzumelden\,  da die Plätze beschränkt sind!\n\nGutscheine für eine ei
 nmalige kostenlose Teilnahme erhalten Sie auf Börsentagen\, Messen oder a
 uf schriftliche Anfrage beim Regionalmanager.\nGäste ohne vorherige Anmel
 dung müssen leider abgewiesen werden!!!
CATEGORIES:Berlin
LOCATION:H10 Hotel Berlin KuDamm
X-APPLE-STRUCTURED-LOCATION;VALUE=URI;X-ADDRESS=Joachimsthaler Str. 31-32\,
  Berlin\, 10789\, Deutschland;X-APPLE-RADIUS=100;X-TITLE=H10 Hotel Berlin 
 KuDamm:geo:0,0
END:VEVENT
BEGIN:VTIMEZONE
TZID:Europe/Berlin
X-LIC-LOCATION:Europe/Berlin
BEGIN:STANDARD
DTSTART:20221030T020000
TZOFFSETFROM:+0200
TZOFFSETTO:+0100
TZNAME:CET
END:STANDARD
END:VTIMEZONE
END:VCALENDAR