BEGIN:VCALENDAR
VERSION:2.0
PRODID:-//wp-events-plugin.com//7.2.3.1//EN
TZID:Europe/Berlin
X-WR-TIMEZONE:Europe/Berlin
BEGIN:VEVENT
UID:659@vtad.de
DTSTART;TZID=Europe/Berlin:20230411T190000
DTEND;TZID=Europe/Berlin:20230411T210000
DTSTAMP:20230228T161352Z
URL:https://www.vtad.de/rgt/folgt-24/
SUMMARY:Mit Formationserkennung und Backtests die besten Strategien finden
DESCRIPTION:\n\n\nMit Python lassen sich auf einfache Art und Weise backtes
 ts von Handelsstrategien durchführen und es stehen eine Menge Module zur
  Verfügung\, die dabei unterstützen und mit denen sich wichtige Kennzahl
 en und Equitykurven ausrechnen lassen. Mit backtests lassen sich nicht nu
 r einzelne Aktien testen\, sondern auch ein Portfolio aus vielen Aktien zu
 sammensetzen. Handelssysteme können Signale nicht nur mittels einfachen 
 gleitenden Durchschnitten erhalten\, sondern auch auf deutlich kompliziert
 eren Wegen\, die auf Mustererkennung basieren. Es werden verschiedene Bei
 spiele gezeigt\, wie sich komplizierte Formationen wie z.B. Cup and Handle
  oder Double Bottom pattern automatisch mit Algorithmen aufspüren lassen
  und mittels backtests auf ihre Perfomance bewerten lassen. Hat man den Al
 gorithmus für die Formation\, lässt sich einfach aufzeigen\, wie das Vol
 umen oder die Marktphase einen Einfluss auf die Performance hat. Hierzu we
 rden in Beispielen hauptsächlich amerikanische Aktien verwendet.\nEs wird
  auch eine Möglichkeit aufgezeigt\, wie sich ChatGPT von openai für back
 tests und die Signalgenerierung verwenden lassen kann.\nUm Handelsstrategi
 en mit vielen Signalen zu verbessern\, können Filtertechniken verwendet w
 erden. Dazu werden Marktfilter und speziell angepasste Filter für Strate
 gien vorgestellt und bewertet.\n\nReferent: Jan Zuleeg\nSeit 10 Jahren bes
 chäftigt sich Jan Zuleeg nebenberuflich mit dem Börsengeschehen. Sein Ha
 ndelsstil basiert hauptsächlich auf festen Regeln\, die über Statistik 
 und selber programmierete Backtests festgelegt worden sind. Dabei spielt 
 die automatische Erkennung von Mustern und Formationen aus der technischen
  Analyse die wichtigste Rolle.\nEr leitet stellvertretend die VTAD in Mün
 chen.\n\n\n&nbsp\;\n\n\n\n\nRegelung für Gäste und Interessierte:\nSchnu
 ppern ist mit vorheriger Anmeldung kostenfrei und erst bei ab der zweiten 
 Teilnahme werden 30 € Kostenbeteiligung berechnet. Die Gäste werden geb
 eten sich beim Regionalmanager per Email unter rm.berlin@vtad.de anzumelde
 n\,  da die Plätze beschränkt sind!\n\nGutscheine für eine einmalige k
 ostenlose Teilnahme erhalten Sie auf Börsentagen\, Messen oder auf schrif
 tliche Anfrage beim Regionalmanager.\nGäste ohne vorherige Anmeldung müs
 sen leider abgewiesen werden!!!
CATEGORIES:Berlin
LOCATION:H10 Hotel Berlin KuDamm
X-APPLE-STRUCTURED-LOCATION;VALUE=URI;X-ADDRESS=Joachimsthaler Str. 31-32\,
  Berlin\, 10789\, Deutschland;X-APPLE-RADIUS=100;X-TITLE=H10 Hotel Berlin 
 KuDamm:geo:0,0
END:VEVENT
BEGIN:VTIMEZONE
TZID:Europe/Berlin
X-LIC-LOCATION:Europe/Berlin
BEGIN:DAYLIGHT
DTSTART:20230326T030000
TZOFFSETFROM:+0100
TZOFFSETTO:+0200
TZNAME:CEST
END:DAYLIGHT
END:VTIMEZONE
END:VCALENDAR