BEGIN:VCALENDAR
VERSION:2.0
PRODID:-//wp-events-plugin.com//7.2.3.1//EN
TZID:Europe/Berlin
X-WR-TIMEZONE:Europe/Berlin
BEGIN:VEVENT
UID:661@vtad.de
DTSTART;TZID=Europe/Berlin:20230612T190000
DTEND;TZID=Europe/Berlin:20230612T210000
DTSTAMP:20230520T111057Z
URL:https://www.vtad.de/rgt/folgt-26/
SUMMARY:Mehr Rendite mit weniger Risiko
DESCRIPTION:\n\n\n\nAn diesem Abend stellt uns der Referent ein Money-Manag
 ement-System vor\, mit dem es möglich ist\, den Erwartungswert einer Hand
 elsstrategie zu vervielfachen. Dadurch kann man mit weniger Risiko mehr Re
 ndite erwirtschaften. Um eine Idee für die Anwendung in der Praxis zu bek
 ommen\, stellt er uns im zweiten Teil ein von ihm entwickeltes Handelsmode
 ll vor\, das sich dafür eignet\, dieses Moneymanagement-System umzusetzen
 .\n\nDieses Modell ist nicht nur für Trader und Optionshändler geeignet\
 , sondern bietet auch Langfristanlegern die Möglichkeit\, "Buy&amp\;Hold"
  mit sehr wenig Aufwand deutlich zu übertreffen. Es wird ein Abend\, der 
 für jeden Börseninteressierten spannend wird\, vom Anfänger bis zum Pro
 fi\, vom Trader bis zum langfristigen Investor.\n\nDer Referent:\nFalk Kü
 hnert beschäftigt sich seit 2014 mit dem Erstellen quantitativer Handelss
 ysteme. Er ist Teil des Quant Teams des vom ehemaligen Bear Stearns Partne
 r Thorsten Wegener gegründeten "The Tactical Brief" (https://www.youtube.
 com/@thetacticalbrief9952/videos)\, das nun schon seit mehreren Jahren pro
 prietäre quantitative Modelle zur Umsetzung der eigenen Handelsstrategien
  entwickelt. Hauptberuflich ist er Optionshändler und bereist die Welt al
 s Perpetual Traveler.\n\n\n\n\n\n\n\n\n\nRegelung für Gäste und Interess
 ierte:\nSchnuppern ist mit vorheriger Anmeldung kostenfrei und erst bei ab
  der zweiten Teilnahme werden 30 € Kostenbeteiligung berechnet. Die Gäs
 te werden gebeten sich beim Regionalmanager per Email unter rm.berlin@vtad
 .de anzumelden\,  da die Plätze beschränkt sind!\n\nGutscheine für ein
 e einmalige kostenlose Teilnahme erhalten Sie auf Börsentagen\, Messen od
 er auf schriftliche Anfrage beim Regionalmanager.\nGäste ohne vorherige A
 nmeldung müssen leider abgewiesen werden!!!
CATEGORIES:Berlin
LOCATION:H10 Hotel Berlin KuDamm
X-APPLE-STRUCTURED-LOCATION;VALUE=URI;X-ADDRESS=Joachimsthaler Str. 31-32\,
  Berlin\, 10789\, Deutschland;X-APPLE-RADIUS=100;X-TITLE=H10 Hotel Berlin 
 KuDamm:geo:0,0
END:VEVENT
BEGIN:VTIMEZONE
TZID:Europe/Berlin
X-LIC-LOCATION:Europe/Berlin
BEGIN:DAYLIGHT
DTSTART:20230326T030000
TZOFFSETFROM:+0100
TZOFFSETTO:+0200
TZNAME:CEST
END:DAYLIGHT
END:VTIMEZONE
END:VCALENDAR