BEGIN:VCALENDAR
VERSION:2.0
PRODID:-//wp-events-plugin.com//7.2.3.1//EN
TZID:Europe/Berlin
X-WR-TIMEZONE:Europe/Berlin
BEGIN:VEVENT
UID:662@vtad.de
DTSTART;TZID=Europe/Berlin:20230717T190000
DTEND;TZID=Europe/Berlin:20230717T210000
DTSTAMP:20230510T180619Z
URL:https://www.vtad.de/rgt/folgt-27/
SUMMARY:Trades und Märkte finden mit der Expander Strategie
DESCRIPTION:\n\n\n\n\n\n\n\n\n\nWer sucht sie nicht – die perfekte Strate
 gie? Wer sich mit Charts beschäftigt\, merkt schnell\, dass es nicht nur 
 unzählige Möglichkeiten gibt\, wie sich ein Markt entwickeln kann\, sond
 ern auch diese Bewegungen zu handeln.\n\nSchnell ist der Werkzeugkoffer da
 nn bis an den Rand gefüllt und der Chart ebenfalls. Wie es einfacher geht
  und welche Strategie für die meisten Bewegungen einfach anwendbar ist\, 
 das erklärt Wieland Arlt\, CFTe in seinem Vortrag.\n\n&nbsp\;\n\n»Wielan
 d Arlt ist einer der erfolgreichsten Trader Deutschlands\, gefragter Refer
 ent und Autor von Fachbeiträgen und Büchern\, darunter "55 Gründe\, Tra
 der zu werden“.« - Börse Online\n\n&nbsp\;\n\nWieland Arlt \, CFTe ist
  professioneller Trader\, Bestseller Autor und Trading-Coach. Er ist Autor
  der Bestseller-Bücher "Risiko- und Money-Management - Simplified" und "5
 5 Gründe\, Trader zu werden" sowie zahlreicher Artikel in führenden Fina
 nzmagazinen. Seit Jahren ist er ein gefragter Speaker und Experte auf inte
 rnationalen Finanzmessen und Fachkongressen.\n\nAls Trader\, Coach und Aus
 bilder ist es ihm wichtig\, Handelsansätze zu vermitteln\, die leicht ver
 ständlich und damit auch leicht umsetzbar sind.\n\nSein erklärtes Ziel 
 im Trader-Coaching und -Training ist es\, Trader dabei zu unterstützen\, 
 ihre finanziellen Ziele selbstbestimmt zu erreichen und langfristig erfolg
 reich auf den Finanzmärkten zu handeln.\n\nWieland Arlt ist Diplom-Volksw
 irt\, Präsident der International Federation of Technical Analysts (IFTA)
 \, Vorstandsmitglied der Vereinigung Technischer Analysten in Deutschland 
 (VTAD) sowie offizielles Mitglied des „Forbes Finance Council“ und ehe
 maliges Mitglied des „Newsweek Expert Forum“.\n\nAls Trader und intern
 ationaler Börsen-Experte lebt Wieland Arlt die vollkommene Freiheit und b
 ereist die Welt als Perpetual Traveler.\n\n\n\n\n\n\n\n\n\n\nRegelung für
  Gäste und Interessierte:\nSchnuppern ist mit vorheriger Anmeldung kosten
 frei und erst bei ab der zweiten Teilnahme werden 30 € Kostenbeteiligung
  berechnet. Die Gäste werden gebeten sich beim Regionalmanager per Email 
 unter rm.berlin@vtad.de anzumelden\,  da die Plätze beschränkt sind!\n\
 nGutscheine für eine einmalige kostenlose Teilnahme erhalten Sie auf Bör
 sentagen\, Messen oder auf schriftliche Anfrage beim Regionalmanager.\nGä
 ste ohne vorherige Anmeldung müssen leider abgewiesen werden!!!
CATEGORIES:Berlin
LOCATION:H10 Hotel Berlin KuDamm
X-APPLE-STRUCTURED-LOCATION;VALUE=URI;X-ADDRESS=Joachimsthaler Str. 31-32\,
  Berlin\, 10789\, Deutschland;X-APPLE-RADIUS=100;X-TITLE=H10 Hotel Berlin 
 KuDamm:geo:0,0
END:VEVENT
BEGIN:VTIMEZONE
TZID:Europe/Berlin
X-LIC-LOCATION:Europe/Berlin
BEGIN:DAYLIGHT
DTSTART:20230326T030000
TZOFFSETFROM:+0100
TZOFFSETTO:+0200
TZNAME:CEST
END:DAYLIGHT
END:VTIMEZONE
END:VCALENDAR