BEGIN:VCALENDAR
VERSION:2.0
PRODID:-//wp-events-plugin.com//7.2.3.1//EN
TZID:Europe/Berlin
X-WR-TIMEZONE:Europe/Berlin
BEGIN:VEVENT
UID:663@vtad.de
DTSTART;TZID=Europe/Berlin:20230905T190000
DTEND;TZID=Europe/Berlin:20230905T210000
DTSTAMP:20230424T181353Z
URL:https://www.vtad.de/rgt/folgt-28/
SUMMARY:Ichimoku Kinko Hyo\, warum schwer wenn es auch einfach geht?
DESCRIPTION:\n\n\n\n\nIchimoku Kinko Hyo bedeutet frei übersetzt „Alles 
 auf einen Blick“. Es ist eine Methode der technischen Analyse\, welche f
 ür die meisten Marktteilnehmer ein Buch mit 7 Siegeln zu sein scheint.\n\
 nDer Referent nutzt dieses japanische Trendfolgesystem für seine Investme
 nts seit mehreren Jahren und er weist darauf hin\, dass er mit den Ichimok
 u-Indikatoren Kursverläufe mit hoher Wahrscheinlichkeit vorherberechnen 
 kann.\n\nIn dieser Veranstaltung stellt der Referent die Ichimoku Indikato
 ren vor und wird an Hand der Indikatoren Aussagen zukünftiger Kursverläu
 fe präsentieren\, welche aus eigenen Aktien-Beispielen\, aber auch gern a
 us Wunsch-Aktien der Vortragsteilnehmer\, bestehen.\n\nDie Analyse-Wunschk
 andidaten können gerne bis zum 30.08. auf marketing@simpel-invest.de gema
 ilt werden.\n\nDer Referent:\nUwe Troche ist als Privatinvestor tätig und
  gründete im Jahre 2013 den bundesweit tätigen Informationsdienst: „Si
 mpel-Invest “(www.simpel-invest.de). Hier lässt er seine Kunden an sein
 en Investmententscheidungen mittels live gehandelter Musterdepots praktisc
 h teilhaben\, gemäß dem Motto: „Sehen heißt glauben.“\n\n&nbsp\;\n\
 n\n\n\n\n\n\n\nRegelung für Gäste und Interessierte:\nSchnuppern ist mit
  vorheriger Anmeldung kostenfrei und erst bei ab der zweiten Teilnahme wer
 den 30 € Kostenbeteiligung berechnet. Die Gäste werden gebeten sich bei
 m Regionalmanager per Email unter rm.berlin@vtad.de anzumelden\,  da die 
 Plätze beschränkt sind!\n\nGutscheine für eine einmalige kostenlose Tei
 lnahme erhalten Sie auf Börsentagen\, Messen oder auf schriftliche Anfrag
 e beim Regionalmanager.\nGäste ohne vorherige Anmeldung müssen leider ab
 gewiesen werden!!!
CATEGORIES:Berlin
LOCATION:H10 Hotel Berlin KuDamm
X-APPLE-STRUCTURED-LOCATION;VALUE=URI;X-ADDRESS=Joachimsthaler Str. 31-32\,
  Berlin\, 10789\, Deutschland;X-APPLE-RADIUS=100;X-TITLE=H10 Hotel Berlin 
 KuDamm:geo:0,0
END:VEVENT
BEGIN:VTIMEZONE
TZID:Europe/Berlin
X-LIC-LOCATION:Europe/Berlin
BEGIN:DAYLIGHT
DTSTART:20230326T030000
TZOFFSETFROM:+0100
TZOFFSETTO:+0200
TZNAME:CEST
END:DAYLIGHT
END:VTIMEZONE
END:VCALENDAR