BEGIN:VCALENDAR
VERSION:2.0
PRODID:-//wp-events-plugin.com//7.2.3.1//EN
TZID:Europe/Berlin
X-WR-TIMEZONE:Europe/Berlin
BEGIN:VEVENT
UID:664@vtad.de
DTSTART;TZID=Europe/Berlin:20231009T190000
DTEND;TZID=Europe/Berlin:20231009T210000
DTSTAMP:20230916T170521Z
URL:https://www.vtad.de/rgt/folgt-29/
SUMMARY:Zahltagstrategie 2023: Mehr Einkommen\, weniger Arbeit\, weniger Ri
 siko
DESCRIPTION:Wer an der Börse mehr gewinnen möchte\, muss mehr riskieren. 
 So zumindest die landläufige Meinung. Dabei ist längst bewiesen\, dass e
 in Zuwachs an Rendite nicht zwingend mit zusätzlichem Risiko erkauft werd
 en muss. Anhand meiner Investmentstrategie werde ich erklären\, wie mit w
 eniger Aufwand und weniger Risiko überdurchschnittliche Einkommenszuwäch
 se erreicht werden können.\n\n&nbsp\;\n\n\n\n\nRegelung für Gäste und I
 nteressierte:\nSchnuppern ist mit vorheriger Anmeldung kostenfrei und erst
  bei ab der zweiten Teilnahme werden 30 € Kostenbeteiligung berechnet. D
 ie Gäste werden gebeten sich beim Regionalmanager per Email unter rm.berl
 in@vtad.de anzumelden\,  da die Plätze beschränkt sind!\n\nGutscheine f
 ür eine einmalige kostenlose Teilnahme erhalten Sie auf Börsentagen\, Me
 ssen oder auf schriftliche Anfrage beim Regionalmanager.\nGäste ohne vorh
 erige Anmeldung müssen leider abgewiesen werden!!!
CATEGORIES:Berlin
LOCATION:H10 Hotel Berlin KuDamm
X-APPLE-STRUCTURED-LOCATION;VALUE=URI;X-ADDRESS=Joachimsthaler Str. 31-32\,
  Berlin\, 10789\, Deutschland;X-APPLE-RADIUS=100;X-TITLE=H10 Hotel Berlin 
 KuDamm:geo:0,0
END:VEVENT
BEGIN:VTIMEZONE
TZID:Europe/Berlin
X-LIC-LOCATION:Europe/Berlin
BEGIN:DAYLIGHT
DTSTART:20230326T030000
TZOFFSETFROM:+0100
TZOFFSETTO:+0200
TZNAME:CEST
END:DAYLIGHT
END:VTIMEZONE
END:VCALENDAR