BEGIN:VCALENDAR
VERSION:2.0
PRODID:-//wp-events-plugin.com//7.2.3.1//EN
TZID:Europe/Berlin
X-WR-TIMEZONE:Europe/Berlin
BEGIN:VEVENT
UID:471@vtad.de
DTSTART;TZID=Europe/Berlin:20220105T190000
DTEND;TZID=Europe/Berlin:20220105T210000
DTSTAMP:20211221T163844Z
URL:https://www.vtad.de/rgt/folgt-50/
SUMMARY:Aktienhandel mit Trendstabilität
DESCRIPTION:Der Handel mit Trends gilt im Allgemeinen als erfolgversprechen
 d. Hierbei muss beachtet werden\, dass nicht alle Trends attraktiv sind. M
 anche sind dynamisch-kurz und andere verlaufen beständig und scheinbar en
 dlos. Der Vortrag zeigt eine Vorgehensweise zur Auswahl guter Trendaktien\
 , die beständiger sind als der Durchschnitt. Eine der Kernthesen ist dabe
 i\, dass Kurs- und der Volumentrend sich ergänzen müssen.\n\nIm zweiten 
 Vortragsteil zeigen Ihnen die Referenten\, wie Top-Aktien entdeckt werden 
 können. Hierbei lernen Sie anschaulich\, wie aus einer Aktien-Scanlist ei
 ne persönliche Watchlist wird und wie daraus die aussichtsreichsten Aktie
 n gehandelt werden. Es werden im wahrsten Sinn die Rosinen heraus gepickt.
  Diese Rosinen werden dann im Wikifolio-Zertifikat Trendbulle gehandelt.\n
 \n Ihr Fachwissen teilen Sie mit der Trader-Community auf dem YouTube-Chan
 nel – TrendBulle\n\n&nbsp\;\n\n\n\nIhre Referenten:\n\nChristian Lukas\n
 \nChristian Lukas ist Trader und Börsenjournalist. Seine Spezialität ist
  die charttechnische Kursanalyse unter Berücksichtigung des Handelsvolume
 ns. Er betreibt Eigenhandel mit dem FDAX und Bund-Future und vertraut dabe
 i auf selbstentwickelte Handelssysteme.\n\nMarko Klingner\n\nIst privater 
 Trader und seit der Spitze der dot.com – Krise an den Märkten aktiv und
  handelt überwiegend Forex und Aktien. Seine Spezielgebiete sind die Mark
 t-/Trendtechnik\, Candlestick-Formationen und sonstige Pattern.\nEr leitet
  seit mehreren Jahren die Berliner Regionalgruppe der VTAD.\n\n\n\nRegelun
 g für Gäste und Interessierte:\nSchnuppern ist mit vorheriger Anmeldung 
 kostenfrei und erst bei ab der zweiten Teilnahme werden 30 € Kostenbetei
 ligung berechnet. Die Gäste werden gebeten sich beim Regionalmanager per 
 Email unter rm.berlin@vtad.de anzumelden\,  da die Plätze beschränkt si
 nd!\n\nGutscheine für eine einmalige kostenlose Teilnahme erhalten Sie au
 f Börsentagen\, Messen oder auf schriftliche Anfrage beim Regionalmanager
 .\nGäste ohne vorherige Anmeldung müssen leider abgewiesen werden!!!\n\n
 \n\nHygienekonzept:\n\nWird zeitnah auf den aktuellen Stand angepasst.\n\n
 &nbsp\;\n\nWer sich krank fühlt bleibt bitte zu Hause. Auf innige Begrü
 ßungen sollte verzichtet werden.\n\n\nHinweis: Für diese Veranstaltung s
 ind wir verpflichtet ein entsprechendes Hygienekonzept zu erstellen und um
 zusetzen.
CATEGORIES:Berlin
LOCATION:Mercure Hotel MOA Berlin
X-APPLE-STRUCTURED-LOCATION;VALUE=URI;X-ADDRESS=Stephanstr. 41\, Berlin\, 1
 0559\, Deutschland;X-APPLE-RADIUS=100;X-TITLE=Mercure Hotel MOA Berlin:geo
 :0,0
END:VEVENT
BEGIN:VTIMEZONE
TZID:Europe/Berlin
X-LIC-LOCATION:Europe/Berlin
BEGIN:STANDARD
DTSTART:20211031T020000
TZOFFSETFROM:+0200
TZOFFSETTO:+0100
TZNAME:CET
END:STANDARD
END:VTIMEZONE
END:VCALENDAR