BEGIN:VCALENDAR
VERSION:2.0
PRODID:-//wp-events-plugin.com//7.2.3.1//EN
TZID:Europe/Berlin
X-WR-TIMEZONE:Europe/Berlin
BEGIN:VEVENT
UID:480@vtad.de
DTSTART;TZID=Europe/Berlin:20220706T190000
DTEND;TZID=Europe/Berlin:20220706T210000
DTSTAMP:20220629T045647Z
URL:https://www.vtad.de/rgt/folgt-56/
SUMMARY:Sektoren im Rampenlicht - Richtiges Timing mit Hilfe des Relative R
 otation Graph (RRG)
DESCRIPTION:Der „Relative Rotation Graph“ (RRG) ist in Deutschland w
 enigen\, selbst erfahrenen Tradern und Investoren\, ein Begriff.\nEs hande
 lt sich um eine neue Art der Chart-Darstellung\, die ausgezeichnet relativ
 e Stärken und Schwächen im Aktienmarkt visualisiert. Es dient somit der 
 quantitativen Akien- und Intermarketanalyse.\nKurz gefasst: beim RRG werde
 n die zu bewertenden Handelsinstrumente in einer Matrix ins Verhältnis zu
 einander und einem gewünschten Referenzmarkt gesetzt und entsprechend in
   4-Quadranten sortiert. \nDadurch lässt sich rasch die relative Perf
 ormance der Einzelwerte zueinander und dem Referenzmarkt überblicken.\nSc
 hnell und auf einen Chart erkennt man\, welche Märkte eher gemieden und i
 n welche eher investiert werden könnte (Stärke vs. Schwäche). Oder w
 o es Zeit zum Aus- bzw. Einstieg in ein Asset ist (Trendwende).\nEntwick
 elt vor ca. 10 Jahren vom holländischen Trader und Portfolio-Manager Juli
 us de Kempenaer\, ist der RRG auf den wichtigsten Tradingplattformen wie B
 loomberg\, Reuters und Stockcharts vertreten. Und trotzdem noch recht unbe
 kannt.\n\nReferent:\n\n\n\nMurat Örs ist wie so viele Trader-Kollegen ein
  Quereinsteiger in diesen Beruf.\nNeben dem Studium und der Arbeit im öff
 entlichen Dienst beschäftigt er sich seit über zehn Jahren mit der Börs
 e und Investments. \nMit dem letzten Crypto-Bullenmarkt 2017 war er endg
 ültig mit dem “Tradingvirus” infiziert und investierte seitdem jede
  freie Minute ins Studium der Aktien- und Futuremärkte.\nNach mehreren Co
 achings und vielem Auf und Ab\, fand er schließlich seinen eigenen Handel
 sstil und ist seit drei Jahren konstanter Day- und Swingtrader. \nEr hand
 elt hauptsächlich Rohstoff-Future und den US-Aktienmarkt.\nZyklen- und Vo
 lumenanalyse sind seine wichtigsten Handelswerkzeuge im täglichen Aktieng
 eschäft. Und seit seiner Entdeckung vor drei Jahren ist der RRG Chart in 
 seiner täglichen Routine vertreten. \nSeit 2020 ist er zudem Leiter der 
 VTAD-Regionalgruppe Hamburg.\n\n\n&nbsp\;\n\n\n\nRegelung für Gäste und 
 Interessierte:\nSchnuppern ist mit vorheriger Anmeldung kostenfrei und ers
 t bei ab der zweiten Teilnahme werden 30 € Kostenbeteiligung berechnet. 
 Die Gäste werden gebeten sich beim Regionalmanager per Email unter rm.ber
 lin@vtad.de anzumelden\,  da die Plätze beschränkt sind!\n\nGutscheine 
 für eine einmalige kostenlose Teilnahme erhalten Sie auf Börsentagen\, M
 essen oder auf schriftliche Anfrage beim Regionalmanager.\nGäste ohne vor
 herige Anmeldung müssen leider abgewiesen werden!!!\n\n\n\nHygienekonzept
 :\n\nWird zeitnah auf den aktuellen Stand angepasst.\n\n&nbsp\;\n\nWer sic
 h krank fühlt bleibt bitte zu Hause. Auf innige Begrüßungen sollte verz
 ichtet werden.\n\n\nHinweis: Für diese Veranstaltung sind wir verpflichte
 t ein entsprechendes Hygienekonzept zu erstellen und umzusetzen.
CATEGORIES:Berlin
LOCATION:Mercure Hotel MOA Berlin
X-APPLE-STRUCTURED-LOCATION;VALUE=URI;X-ADDRESS=Stephanstr. 41\, Berlin\, 1
 0559\, Deutschland;X-APPLE-RADIUS=100;X-TITLE=Mercure Hotel MOA Berlin:geo
 :0,0
END:VEVENT
BEGIN:VTIMEZONE
TZID:Europe/Berlin
X-LIC-LOCATION:Europe/Berlin
BEGIN:DAYLIGHT
DTSTART:20220327T030000
TZOFFSETFROM:+0100
TZOFFSETTO:+0200
TZNAME:CEST
END:DAYLIGHT
END:VTIMEZONE
END:VCALENDAR