BEGIN:VCALENDAR
VERSION:2.0
PRODID:-//wp-events-plugin.com//7.2.3.1//EN
TZID:Europe/Berlin
X-WR-TIMEZONE:Europe/Berlin
BEGIN:VEVENT
UID:481@vtad.de
DTSTART;TZID=Europe/Berlin:20220901T190000
DTEND;TZID=Europe/Berlin:20220901T210000
DTSTAMP:20220815T101639Z
URL:https://www.vtad.de/rgt/folgt-57/
SUMMARY:Elliott Wellen – von der Theorie zur Praxis
DESCRIPTION:Die Elliott-Wellen Analyse ist ein heiß debattiertes Thema mit
  kontroversen Diskussionen. Allerdings ist die Analyse der Märkte nach Ra
 lph Nelson Elliott bei vielen professionellen Händlern durchaus beliebt u
 nd angesehen. Doch was ist wirklich dran und wie ist die Elliott-Wellen An
 alyse erfolgreich anzuwenden?\n\nIn diesem Vortrag zeigt Rüdiger Born\, i
 nstitutioneller Händler und seit rund 20 Jahren mit dem Thema Elliott Wel
 len vertraut\, nicht nur die wichtigsten Grundformen der Elliott-Wellen An
 alyse\, sondern verknüpft das theoretische Wissen mit der so wichtigen pr
 aktischen Anwendung. Mit einem vereinfachten Ansatz kommen auch Einsteiger
  schnell in das Thema und können schon bald stete Erfolge erwarten. Doch 
 auch tiefer gehende Spezialfälle spricht er in diesem Vortrag an.\n\n&nbs
 p\;\n\n\n\nRegelung für Gäste und Interessierte:\nSchnuppern ist mit vor
 heriger Anmeldung kostenfrei und erst bei ab der zweiten Teilnahme werden 
 30 € Kostenbeteiligung berechnet. Die Gäste werden gebeten sich beim Re
 gionalmanager per Email unter rm.berlin@vtad.de anzumelden\,  da die Plä
 tze beschränkt sind!\n\nGutscheine für eine einmalige kostenlose Teilnah
 me erhalten Sie auf Börsentagen\, Messen oder auf schriftliche Anfrage be
 im Regionalmanager.\nGäste ohne vorherige Anmeldung müssen leider abgewi
 esen werden!!!
CATEGORIES:Berlin
LOCATION:Mercure Hotel MOA Berlin
X-APPLE-STRUCTURED-LOCATION;VALUE=URI;X-ADDRESS=Stephanstr. 41\, Berlin\, 1
 0559\, Deutschland;X-APPLE-RADIUS=100;X-TITLE=Mercure Hotel MOA Berlin:geo
 :0,0
END:VEVENT
BEGIN:VTIMEZONE
TZID:Europe/Berlin
X-LIC-LOCATION:Europe/Berlin
BEGIN:DAYLIGHT
DTSTART:20220327T030000
TZOFFSETFROM:+0100
TZOFFSETTO:+0200
TZNAME:CEST
END:DAYLIGHT
END:VTIMEZONE
END:VCALENDAR