BEGIN:VCALENDAR
VERSION:2.0
PRODID:-//wp-events-plugin.com//7.2.3.1//EN
TZID:Europe/Berlin
X-WR-TIMEZONE:Europe/Berlin
BEGIN:VEVENT
UID:483@vtad.de
DTSTART;TZID=Europe/Berlin:20221207T190000
DTEND;TZID=Europe/Berlin:20221207T210000
DTSTAMP:20221101T074421Z
URL:https://www.vtad.de/rgt/folgt-59/
SUMMARY:Mit klaren Strategien erfolgreich in Aktien investieren - 2. Platz 
 beim VTAD-Award 2022!!!
DESCRIPTION:Erleben Sie einen Abend mit dem Gewinner des 2. Platzes bei VTA
 D-Award 2022\n\n&nbsp\;\n\nJeder Investor hat mit seinem Handelsstil und s
 einer Aktienauswahl das Ziel besser zu performen als der Gesamtmarkt. Wie 
 können wir aber sicherstellen\, dass wir langfristig zu den Gewinnern an 
 der Börse gehören? Maximilian König hat darauf eine klare Antwort: mit 
 klar definierten Investmentstrategien.\n\nMaximilian König stellt Ihnen i
 m Vortag seine eigens entwickelten Scoring-Modelle zur Aktienbewertung vor
  und zeigt wie sich auf deren Basis aussichtsreiche Investmentstrategien k
 onstruieren lassen.\n\nAußerdem lernen Sie ausgewählte Kennzahlen zur Be
 rechnung der Scoring-Modelle kennen und erfahren welche Rolle Backtests hi
 erbei spielen. Abschließend gibt es auch noch einen Blick in die Praxis: 
 Maximilian König gibt Einblick in eines seiner Echtgeld-Depots\, zeigt we
 lche Renditen hier bisher erzielt wurden und in welchen Aktien er aktuell 
 investiert ist.\n\n&nbsp\;\n\n\n\nRegelung für Gäste und Interessierte:\
 nSchnuppern ist mit vorheriger Anmeldung kostenfrei und erst bei ab der zw
 eiten Teilnahme werden 30 € Kostenbeteiligung berechnet. Die Gäste werd
 en gebeten sich beim Regionalmanager per Email unter rm.berlin@vtad.de anz
 umelden\,  da die Plätze beschränkt sind!\n\nGutscheine für eine einma
 lige kostenlose Teilnahme erhalten Sie auf Börsentagen\, Messen oder auf 
 schriftliche Anfrage beim Regionalmanager.\nGäste ohne vorherige Anmeldun
 g müssen leider abgewiesen werden!!!\n\n\n\nHygienekonzept:\n\nWird zeitn
 ah auf den aktuellen Stand angepasst.\n\n&nbsp\;\n\nWer sich krank fühlt 
 bleibt bitte zu Hause. Auf innige Begrüßungen sollte verzichtet werden.\
 n\n\nHinweis: Für diese Veranstaltung sind wir verpflichtet ein entsprech
 endes Hygienekonzept zu erstellen und umzusetzen.
CATEGORIES:Berlin
LOCATION:Mercure Hotel MOA Berlin
X-APPLE-STRUCTURED-LOCATION;VALUE=URI;X-ADDRESS=Stephanstr. 41\, Berlin\, 1
 0559\, Deutschland;X-APPLE-RADIUS=100;X-TITLE=Mercure Hotel MOA Berlin:geo
 :0,0
END:VEVENT
BEGIN:VTIMEZONE
TZID:Europe/Berlin
X-LIC-LOCATION:Europe/Berlin
BEGIN:STANDARD
DTSTART:20221030T020000
TZOFFSETFROM:+0200
TZOFFSETTO:+0100
TZNAME:CET
END:STANDARD
END:VTIMEZONE
END:VCALENDAR