BEGIN:VCALENDAR
VERSION:2.0
PRODID:-//wp-events-plugin.com//7.2.3.1//EN
TZID:Europe/Berlin
X-WR-TIMEZONE:Europe/Berlin
BEGIN:VEVENT
UID:769@vtad.de
DTSTART;TZID=Europe/Berlin:20240116T190000
DTEND;TZID=Europe/Berlin:20240116T210000
DTSTAMP:20231228T170312Z
URL:https://www.vtad.de/rgt/folgt-70/
SUMMARY:Gleitende Durchschnitte - der richtige GD für Daytrader\, Swing Tr
 ader &amp\; Investoren
DESCRIPTION:Im Vortrag wird Jens Klatt seine Herangehensweise für die Nutz
 ung von gleitenden Durchschnitten für jeden Trader-Typ vorstellen. Währe
 nd gleitende Durchschnitte nicht spektakulär anmuten nimmt Jens Klatt die
  Teilnehmer des Vortrags mit auf eine Reise der Identifikation des Überga
 ngs verschiedener Marktphasen mithilfe von GD's und zeigt auf\, wie das Zu
 sammenspiel mehrerer Zeitebenen Scalper\, Swing Trader und Investoren in e
 in und dieselbe Richtung streben lassen und wie man das profitabel in sein
 em Trading und im Windschatten der Big Player für sich nutzen kann - selb
 stverständlich anhand realer Trading-Beispiele.
CATEGORIES:Berlin
LOCATION:H10 Hotel Berlin KuDamm
X-APPLE-STRUCTURED-LOCATION;VALUE=URI;X-ADDRESS=Joachimsthaler Str. 31-32\,
  Berlin\, 10789\, Deutschland;X-APPLE-RADIUS=100;X-TITLE=H10 Hotel Berlin 
 KuDamm:geo:0,0
END:VEVENT
BEGIN:VTIMEZONE
TZID:Europe/Berlin
X-LIC-LOCATION:Europe/Berlin
BEGIN:STANDARD
DTSTART:20231029T020000
TZOFFSETFROM:+0200
TZOFFSETTO:+0100
TZNAME:CET
END:STANDARD
END:VTIMEZONE
END:VCALENDAR