BEGIN:VCALENDAR
VERSION:2.0
PRODID:-//wp-events-plugin.com//7.2.3.1//EN
TZID:Europe/Berlin
X-WR-TIMEZONE:Europe/Berlin
BEGIN:VEVENT
UID:782@vtad.de
DTSTART;TZID=Europe/Berlin:20240213T190000
DTEND;TZID=Europe/Berlin:20240213T210000
DTSTAMP:20240115T120928Z
URL:https://www.vtad.de/rgt/folgt-71/
SUMMARY:Von der kurzfristigen Kapitalbeschaffung hin zum langfristigen Verm
 ögensaufbau
DESCRIPTION:\n 	Möglichkeiten und Herausforderungen der kurzfristigen Kapi
 talbeschaffung am Finanzmarkt\n 	Einfachheit siegt in den meisten Fällen\
 n 	Geschickter Portfolioaufbau mit Potenzial den Markt dauerhaft zu schlag
 en\n 	Und Zwischendurch ein Monstertrade - So ist er identifizierbar\n
CATEGORIES:Berlin
LOCATION:H10 Hotel Berlin KuDamm
X-APPLE-STRUCTURED-LOCATION;VALUE=URI;X-ADDRESS=Joachimsthaler Str. 31-32\,
  Berlin\, 10789\, Deutschland;X-APPLE-RADIUS=100;X-TITLE=H10 Hotel Berlin 
 KuDamm:geo:0,0
END:VEVENT
BEGIN:VTIMEZONE
TZID:Europe/Berlin
X-LIC-LOCATION:Europe/Berlin
BEGIN:STANDARD
DTSTART:20231029T020000
TZOFFSETFROM:+0200
TZOFFSETTO:+0100
TZNAME:CET
END:STANDARD
END:VTIMEZONE
END:VCALENDAR