BEGIN:VCALENDAR
VERSION:2.0
PRODID:-//wp-events-plugin.com//7.2.3.1//EN
TZID:Europe/Berlin
X-WR-TIMEZONE:Europe/Berlin
BEGIN:VEVENT
UID:783@vtad.de
DTSTART;TZID=Europe/Berlin:20240312T190000
DTEND;TZID=Europe/Berlin:20240312T210000
DTSTAMP:20240206T073612Z
URL:https://www.vtad.de/rgt/folgt-72/
SUMMARY:CANSLIM - Monsteraktien in Theorie und Praxis
DESCRIPTION:Wo explosives Gewinn- und Umsatzwachstum und zukunftsweisende 
 Technologien auf den Ausbruch zum Allzeithoch treffen\, werden die nächst
 en Monsteraktien geboren. Heute kennt sie jeder\, die Ciscos und Netflixe
 s dieser Welt\, aber jeder hat ja bekanntlich mal klein angefangen.\n\nNac
 hdem Dominik Weiland bereits im Rahmen eines Kurzvortrags im Dezember 2023
  einen kleinen Einblick in die Thematik gewährt hat\, werden an diesem Ab
 end folgende Punkte näher beleuchtet:\n\n0 - Das Akronym CANSLIM:\n\n 	Wo
 für die einzelnen Buchstaben stehen - kurz zusammengefasst\n 	Was es noch
  zu ergänzen gibt\n\n1 - CANSLIM-Philosophie:\n\n 	Nicht jede Rakete wird
  rechtzeitig gefunden\n 	Nicht jeder gefundene Kandidat geht in die Wolken
 \n 	Warum eine Kauf-und-Halte-Strategie nicht empfehlenswert ist\n\n2 - Ak
 tien-Screening:\n\n 	Die 2 Ansätze zum Finden von CANSLIM-Aktien.\n 	Von 
 oben nach unten (Top-down)\n 	Von unten nach oben (Bottom-up)\n\n3 - Ein- 
 und Ausstiegsregeln:\n\n 	Wo man einsteigt\n 	Wann man wieder raus muss\n\
 n4 - Chartanalyse nach CANSLIM:\n\n 	Diese Linien\, Formationen und Indika
 toren werden genutzt\n\n5 - Fehlsignale:\n\n 	Kritik an der CANSLIM-Method
 e\n 	Wo man tatsächlich einsteigt und wo besser nicht\n\n6 - Praxis-Works
 hop:\n\n 	Gemeinsam analysieren wir aktuelle Beispiele\n\n7 - Die Monstera
 ktien von morgen:\n\n 	Welche Aktien man auf Beobachtung setzen kann\n 	Vo
 rstellung der Favoriten des Autors\n\nReferent:\nDominik Weiland ist passi
 onierter Privatanleger seit seiner Schulzeit. Auf der damals noch jungen B
 örsenplattform Ariva machte er sich als "patznjeschniki" einen Namen als 
 Chartanalyst und war Mitglied des über die Plattform organisierten privat
 en Börsenclub "Eskivana". Nach einer mehrjährigen Pause von der Börse i
 st er seit Anfang 2023 Mitglied im VTAD und beschäftigt sich wieder verme
 hrt mit Aktien. Sein Steckenpferd sind amerikanische Einzelaktien und Stra
 tegien\, die Chart- und Fundamental-Technik vereinen.
CATEGORIES:Berlin
LOCATION:H10 Hotel Berlin KuDamm
X-APPLE-STRUCTURED-LOCATION;VALUE=URI;X-ADDRESS=Joachimsthaler Str. 31-32\,
  Berlin\, 10789\, Deutschland;X-APPLE-RADIUS=100;X-TITLE=H10 Hotel Berlin 
 KuDamm:geo:0,0
END:VEVENT
BEGIN:VTIMEZONE
TZID:Europe/Berlin
X-LIC-LOCATION:Europe/Berlin
BEGIN:STANDARD
DTSTART:20231029T020000
TZOFFSETFROM:+0200
TZOFFSETTO:+0100
TZNAME:CET
END:STANDARD
END:VTIMEZONE
END:VCALENDAR