BEGIN:VCALENDAR
VERSION:2.0
PRODID:-//wp-events-plugin.com//7.2.3.1//EN
TZID:Europe/Berlin
X-WR-TIMEZONE:Europe/Berlin
BEGIN:VEVENT
UID:784@vtad.de
DTSTART;TZID=Europe/Berlin:20240409T190000
DTEND;TZID=Europe/Berlin:20240409T210000
DTSTAMP:20231120T135406Z
URL:https://www.vtad.de/rgt/folgt-73/
SUMMARY:Massenpsychologie im Bullenmarkt 2013-2030. S&amp\;P 500 Kursziel 1
 5000 Punkte.
DESCRIPTION:Agenda:\n\n 	Wie macht sich Massenpsychologie an der Börse bem
 erkbar?\n 	Definition des massenpsychologischen Börsenzyklusses.\n 	Was i
 st ein primärer und ein sekundärer Bullenmarkt?\n 	Wie kann man einen Cr
 ash frühzeitig erkennen?\n\nEs werden 2 Crash-Detektoren vorgestellt.\n 	
 Sollte man deutsche Indizes oder Aktien kaufen?\n 	Wieso schaffen es Keina
 nleger nicht am Aktienmarkt langfristig zu profitieren?\n 	Was ist die Tri
 ebfeder des Bullenmarktes 2013 bis 2030?\n 	Sind Infaltionsjahre wirklich 
 schlechte Aktien-Jahre?\n\n&nbsp\;\n\nFilip Rabin blickt auf 27 Jahren Bö
 rsenerfahrung zurück. Durch die Telekom-Emmission im Jahre 1996 wurde sei
 n Börseninteresse geweckt. Seitdem beobachtet er täglich die Finanzdaten
  und die Reaktion der Börse auf diese Fundamentaldaten. Die Faszination f
 ür die Börse hat Ihn alle Börsen-Phasen von der DOT.COM-Blase bis zum B
 ärenmarkt 2022 miterleben lassen. Er hat 2 Jahre lang in der Finanzbranch
 e als Broker für derivative Finanzinstrumente und als Programmierer von m
 echanischen Handelssystemen gearbeitet. Als Software-Entwickler hat er ein
 e Reihe von Börsen-Studien in Form von Java-Programme implementiert. Die 
 Erkenntnisse dieser Studien führte zu seinen 3 Basis-Strategien an den Ak
 tien-Märkten.
CATEGORIES:Berlin
LOCATION:H10 Hotel Berlin KuDamm
X-APPLE-STRUCTURED-LOCATION;VALUE=URI;X-ADDRESS=Joachimsthaler Str. 31-32\,
  Berlin\, 10789\, Deutschland;X-APPLE-RADIUS=100;X-TITLE=H10 Hotel Berlin 
 KuDamm:geo:0,0
END:VEVENT
BEGIN:VTIMEZONE
TZID:Europe/Berlin
X-LIC-LOCATION:Europe/Berlin
BEGIN:DAYLIGHT
DTSTART:20240331T030000
TZOFFSETFROM:+0100
TZOFFSETTO:+0200
TZNAME:CEST
END:DAYLIGHT
END:VTIMEZONE
END:VCALENDAR