BEGIN:VCALENDAR
VERSION:2.0
PRODID:-//wp-events-plugin.com//7.2.3.1//EN
TZID:Europe/Berlin
X-WR-TIMEZONE:Europe/Berlin
BEGIN:VEVENT
UID:785@vtad.de
DTSTART;TZID=Europe/Berlin:20240513T190000
DTEND;TZID=Europe/Berlin:20240513T210000
DTSTAMP:20240318T084829Z
URL:https://www.vtad.de/rgt/folgt-74/
SUMMARY:Pattern-Trading
DESCRIPTION:Karin Roller zeigt Ihnen in diesem Seminar Schritt für Schritt
 \, wie Sie harmonische Pattern in einem Chart aufspüren\, wie Sie die Kur
 sziele der einzelnen Segmente bestimmen und das Pattern identifizieren kö
 nnen. Und ist das Pattern dann (fast) fertig ausgebildet\, wie der Einstie
 g\, der Take Profit und der Stopp Loss geplant und auch umgesetzt werden.\
 nZu Beginn des 20. Jahrhunderts bestand Technische Analyse unter anderem d
 arin\, wiederkehrende Muster in von Hand gezeichneten Charts zu identifizi
 eren und danach zu traden. Dazu gehörten Standardpattern wie Kopf-Schulte
 r Formationen oder Dreiecke. Heutzutage zeichnet der Computer den Chart un
 d praktisch jedes Charttool verfügt über Fibonacci-Tools.\nDamit ist es 
 ein Einfaches\, harmonische Pattern zu identifizieren und diese zu handeln
 . Unter harmonischen Pattern versteht man Chartmuster\, die mit Hilfe von 
 Fibonacci-Ratios definiert werden. Diese Pattern (Muster) werden in der Re
 gel aus 5 Punkten und 4 Segmenten gebildet. Sie tragen die Namen „Gartle
 y“\, „Bat“\, „Butterfly“\, „Crab“ oder auch „Shark“. Die
  einzelnen Pattern unterscheiden sich darin\, an welchen Fibonacci-Ratios 
 eine Umkehr ausgebildet wird.\n\nWer sich unter einem harmonischen Patte
 rn auf die Schnelle nichts vorstellen kann:\nHier wird die Entwicklung ei
 nes aktuellen bearishen Cypher im DAX beschrieben.\n\nEiner der Vorteile 
 des Pattern-Trading liegt darin\, dass jeder Trade im Voraus geplant werde
 n kann! Weil: so ein Pattern braucht Zeit\, sich zu entwickeln. Je nachdem
 \, welche Fibo-Ratios bei welcher Strecke erreicht werden\, können bestim
 mte Pattern ausgeschlossen und andere in die engere Auswahl genommen werde
 n. Damit können bereits vorab mögliche Einstiege\, Stopps und Take Profi
 ts definiert werden. Und – in Abhängigkeit der Kontogröße und des per
 sönlichen Risk- und Money-Managements – kann im Voraus die Positionsgr
 öße und das CRV berechnet werden. Sie springen also nicht blind und ad h
 oc in einen Trade – Sie können jeden Trade in Ruhe planen und vorbereit
 en!\n\nKarin Roller ist Traderin\, Autorin\, Mitglied des Vorstands der VT
 AD e. V.\, leitet die Regionalgruppe Stuttgart und ist Board Member der IF
 TA (International Federation of Technical Analysts) . Für ihr tägliches 
 Trading ist das wichtigste technische Analysetool Fibonacci in Kombination
  mit Ichimoku Kinko Hyo und Elliott-Waves.\nMehr Infos unter www.boersen-
 knowhow.de\n\n&nbsp\;
CATEGORIES:Berlin
LOCATION:H10 Hotel Berlin KuDamm
X-APPLE-STRUCTURED-LOCATION;VALUE=URI;X-ADDRESS=Joachimsthaler Str. 31-32\,
  Berlin\, 10789\, Deutschland;X-APPLE-RADIUS=100;X-TITLE=H10 Hotel Berlin 
 KuDamm:geo:0,0
END:VEVENT
BEGIN:VTIMEZONE
TZID:Europe/Berlin
X-LIC-LOCATION:Europe/Berlin
BEGIN:DAYLIGHT
DTSTART:20240331T030000
TZOFFSETFROM:+0100
TZOFFSETTO:+0200
TZNAME:CEST
END:DAYLIGHT
END:VTIMEZONE
END:VCALENDAR