BEGIN:VCALENDAR
VERSION:2.0
PRODID:-//wp-events-plugin.com//7.2.3.1//EN
TZID:Europe/Berlin
X-WR-TIMEZONE:Europe/Berlin
BEGIN:VEVENT
UID:789@vtad.de
DTSTART;TZID=Europe/Berlin:20241008T190000
DTEND;TZID=Europe/Berlin:20241008T210000
DTSTAMP:20240522T124538Z
URL:https://www.vtad.de/rgt/folgt-78/
SUMMARY:Erhöhen Sie systematisch Ihre Gewinne mit wiederkehrenden Saisonal
 itäten und Zyklen
DESCRIPTION:\n\nEs gibt weitaus mehr kalender- und eventbasierte Muster\, a
 ls den meisten Anlegern bekannt ist. Dimitri Speck zeigt sie Ihnen – und
  wie sie zur Verbesserung von Anlageentscheidungen auch in einem schwieri
 gen Marktumfeld genutzt werden können.\n\nDimitri Speck ist Börsenbriefa
 utor und Verfasser mehrerer Finanzbücher wie "Die größte Finanz-Blase a
 ller Zeiten". Seine Arbeiten wurden mit internationalen Awards ausgezeichn
 et. Speck ist Herausgeber der Website www.seasonax.com\, auf der interessi
 erte Anleger über 20.000 Instrumente saisonal untersuchen können.\n\n
CATEGORIES:Berlin
LOCATION:H10 Hotel Berlin KuDamm
X-APPLE-STRUCTURED-LOCATION;VALUE=URI;X-ADDRESS=Joachimsthaler Str. 31-32\,
  Berlin\, 10789\, Deutschland;X-APPLE-RADIUS=100;X-TITLE=H10 Hotel Berlin 
 KuDamm:geo:0,0
END:VEVENT
BEGIN:VTIMEZONE
TZID:Europe/Berlin
X-LIC-LOCATION:Europe/Berlin
BEGIN:DAYLIGHT
DTSTART:20240331T030000
TZOFFSETFROM:+0100
TZOFFSETTO:+0200
TZNAME:CEST
END:DAYLIGHT
END:VTIMEZONE
END:VCALENDAR