BEGIN:VCALENDAR
VERSION:2.0
PRODID:-//wp-events-plugin.com//7.2.3.1//EN
TZID:Europe/Berlin
X-WR-TIMEZONE:Europe/Berlin
BEGIN:VEVENT
UID:790@vtad.de
DTSTART;TZID=Europe/Berlin:20241105T190000
DTEND;TZID=Europe/Berlin:20241105T210000
DTSTAMP:20241030T160042Z
URL:https://www.vtad.de/rgt/folgt-79/
SUMMARY:Stillhalten nach dem EVU-Prinzip: Konsistent mit dem Verkauf von US
 -Aktien-Optionen Geld verdienen!
DESCRIPTION:\n\nDer Verkauf von Optionen ist lukrativ\, keine Frage. Um pro
 fessionelle Stillhalten zu meistern\, braucht es allerdings das nötige Hi
 ntergrundwissen. Genau das wird in diesem Vertrag erklärt:\n\n• Was ist
  das benötigte Startkapital?\n• Mit welchem Broker kann man handeln?\n
 • Welche Märkte soll man überhaupt handeln?\n• Was kann man als Hand
 elsergebnis erwarten? Thomas Bopp gibt die Antworten und stellt einen Teil
  seiner zwölf Strategien vor\, mit denen er die idealen Handelskandidaten
  täglich ausfindig machen kann.\n\nKaum ein Trader ist so lange am Markt 
 und derart routiniert wie Thomas Bopp. Jahrzehnte lange Börsenerfahrung\,
  einzigartige Kontakte zu Herstellern von hochwertiger Trading-Software (C
 aptimizer\, AgenaTrader\, TAI-PAN und andere) sowie eine stoische Ruhe\, d
 ie nichts erschüttern kann – so könnte man ihn beschreiben.\n\nThomas 
 Bopp ist seit über 35 Jahren überzeugter Charttechniker. Bekannt ist er 
 durch seine unzähligen Knowhow-Artikel über verschiedene Anlagestrategie
 n\, die er im TRADERS-Magazin veröffentlicht hat.\n\nUnter anderem hat T
 homas Bopp ein 70-teiliges Charttechnik-Training für die Internetseite de
 r Frankfurter Allgemeinen Zeitung verfasst. Auch findet man mehr als 200 V
 ideo-Analysen auf YouTube\, die zum Teil schon Seminar-Charakter haben. Ak
 tuell betreut er zwei Börsenbriefe\, schreibt für die Hersteller der Tai
 pan-Börsensoftware einen längeren semi-monatlichen Newsletter und über 
 den YouTube-Kanal der gleichen Firma legt er seine Meinung zum DAX und ver
 schiedene Strategien der Börse in „Bopp´s Börsenecke“ dar. Die zwei
 te Ausgabe jeden Monats ist dem DAX und dem Verkauf von Optionen am US-Akt
 ienmarkt vorbehalten. Seit März 2023 betreut er bei den Experten vom „O
 ptionsuniversum“ einen eigenen Live-Options-Room\, in dem seine Trades z
 eigt und kommentiert. Thomas Bopp ist langjähriges Mittglied der VTAD und
  gerngesehener Referent in den Regionalgruppen.\n\n\n&nbsp\;\n\n*Regelung 
 für Gäste und Interessierte:Gäste müssen sich rechtzeitig beim Regiona
 lmanager per Email anmelden\, um uns die Raumplanung zu erleichtern. Gäst
 e OHNE vorherige Anmeldung müssen leider abgewiesen werden!!!Die erstmali
 ge Teilnahme(auch mit Gutschein) mit vorheriger Anmeldung ist kostenfrei (
 Schnupperangebot). Bei wiederholter Teilnahme werden für Nichtmitglieder 
 30.- € Kostenbeteiligung pro Veranstaltung berechnet.Der Mitgliedsbeitra
 g als „Persönliches Mitglied“ beträgt 120 € für ein Jahr. Für Mi
 tglieder ist der Besuch aller regionalen Veranstaltungen in allen Regional
 gruppen kostenfrei.
CATEGORIES:Berlin
LOCATION:H10 Hotel Berlin KuDamm
X-APPLE-STRUCTURED-LOCATION;VALUE=URI;X-ADDRESS=Joachimsthaler Str. 31-32\,
  Berlin\, 10789\, Deutschland;X-APPLE-RADIUS=100;X-TITLE=H10 Hotel Berlin 
 KuDamm:geo:0,0
END:VEVENT
BEGIN:VTIMEZONE
TZID:Europe/Berlin
X-LIC-LOCATION:Europe/Berlin
BEGIN:STANDARD
DTSTART:20241027T020000
TZOFFSETFROM:+0200
TZOFFSETTO:+0100
TZNAME:CET
END:STANDARD
END:VTIMEZONE
END:VCALENDAR