BEGIN:VCALENDAR
VERSION:2.0
PRODID:-//wp-events-plugin.com//7.2.3.1//EN
TZID:Europe/Berlin
X-WR-TIMEZONE:Europe/Berlin
BEGIN:VEVENT
UID:791@vtad.de
DTSTART;TZID=Europe/Berlin:20241210T190000
DTEND;TZID=Europe/Berlin:20241210T210000
DTSTAMP:20241206T093807Z
URL:https://www.vtad.de/rgt/folgt-80/
SUMMARY:Kurzvorträge aus den eigenen Reihen
DESCRIPTION:1) Filip Rabin\n\nMassenpsychologie im Bullenmarkt 2013-2030.\n
 S&amp\;P Kursziel : 15.000\nDAX Kursziel : 50.000\nUPDATE - Bestätigung d
 es Kursziels.  Charttechnische-massenpsychologische und mediale Fallen im
  sekundären Bullenmarkt 2024-2030.\n\n\n\n2) Rüdiger Skrzypek\n\n"Tradin
 gpsychologie in 20 Minuten"\nObwohl Trading-Erfolge gerne zur Schau gestel
 lt werden\, werden Verluste und Scheitern selten thematisiert. Dies führt
  zu unrealistischen Erwartungen bei Tradern\, Anlegern\, Anfängern und ma
 nchmal auch bei alten Hasen. Dabei ist Scheitern ein wiederkehrender Teil 
 des Tradings. Trader entwickeln oft fehlerhafte Denkmuster und unterliegen
  Selbsttäuschungen\, die zu schlechten Handelsentscheidungen führen.\nIn
  diesem Kurzvortrag werden anhand von Newstradings typische Fallstricke vo
 rgestellt und können gerne auch diskutiert werden.\n\n\n\n\n3) Stefan Unv
 erhau\n\nIdentifizierung von unterbewerteten Value Titel und konkrete Umse
 tzung in einer Handelsstrategie\n\n\n\n4) Marko Klingner\n\n"Die Sektorenm
 atrix"\nErläuterungen zum Aufbau\, Nutzen und Einsatz im täglichen Aktie
 n-Trading.\n\n&nbsp\;\n\n*Regelung für Gäste und Interessierte:Gäste m
 üssen sich rechtzeitig beim Regionalmanager per Email anmelden\, um uns d
 ie Raumplanung zu erleichtern. Gäste OHNE vorherige Anmeldung müssen lei
 der abgewiesen werden!!!Die erstmalige Teilnahme(auch mit Gutschein) mit v
 orheriger Anmeldung ist kostenfrei (Schnupperangebot). Bei wiederholter Te
 ilnahme werden für Nichtmitglieder 30.- € Kostenbeteiligung pro Veranst
 altung berechnet.Der Mitgliedsbeitrag als „Persönliches Mitglied“ bet
 rägt 120 € für ein Jahr. Für Mitglieder ist der Besuch aller regional
 en Veranstaltungen in allen Regionalgruppen kostenfrei.
CATEGORIES:Berlin
LOCATION:H10 Hotel Berlin KuDamm
X-APPLE-STRUCTURED-LOCATION;VALUE=URI;X-ADDRESS=Joachimsthaler Str. 31-32\,
  Berlin\, 10789\, Deutschland;X-APPLE-RADIUS=100;X-TITLE=H10 Hotel Berlin 
 KuDamm:geo:0,0
END:VEVENT
BEGIN:VTIMEZONE
TZID:Europe/Berlin
X-LIC-LOCATION:Europe/Berlin
BEGIN:STANDARD
DTSTART:20241027T020000
TZOFFSETFROM:+0200
TZOFFSETTO:+0100
TZNAME:CET
END:STANDARD
END:VTIMEZONE
END:VCALENDAR