BEGIN:VCALENDAR
VERSION:2.0
PRODID:-//wp-events-plugin.com//7.2.3.1//EN
TZID:Europe/Berlin
X-WR-TIMEZONE:Europe/Berlin
BEGIN:VEVENT
UID:897@vtad.de
DTSTART;TZID=Europe/Berlin:20250206T190000
DTEND;TZID=Europe/Berlin:20250206T210000
DTSTAMP:20241002T144131Z
URL:https://www.vtad.de/rgt/folgt-82/
SUMMARY:Krisensicher und chancenreich: Erfolgreiches Stockpicking in jeder 
 Marktlage
DESCRIPTION:In einer Welt\, in der geopolitische Unruhen oder epidemische K
 risen jederzeit die\nMärkte erschüttern könnten\, ist es entscheidend\,
  ein aus sorgfältig ausgewählten\nEinzelwerten bestehendes Aktienportfol
 io aufzubauen\, das Stabilität und Rendite\ngleichermaßen vereint. Krise
 nsicher mit Einzeltiteln? Zugegeben\, das mag im ersten\nMoment wie eine U
 topie erscheinen\, doch der Referent wird uns einen intelligenten\nAnsatz 
 zeigen\, wie wir dies realisieren können. Dabei ist es entscheidend\, auf
  zwei\nHauptkategorien von Aktieninvestments zu vertrauen:\n1. Krisenresis
 tente Werte: LargeCaps\, die sich in der Vergangenheit als robuste\nAbsich
 erung gegen Marktturbulenzen bewährt haben. Durch den Einsatz\nunserer ei
 genen Algorithmen identifizieren wir vielversprechende Unternehmen\,\ndie 
 auch in herausfordernden Marktphasen mit bemerkenswerten Renditen\nglänze
 n konnten - selbst als der breite Markt eine Korrektur durchlief!\n2. Chan
 cenreiche Werte: Small- und MicroCaps\, die vor allem in unsicheren\nZeite
 n außergewöhnliche Kaufgelegenheiten bieten\, Marktineffizienzen gezielt
 \nnutzen und ein erhebliches Potenzial für überdurchschnittliche Rendite
 n\naufweisen - denn Krisen bergen Chancen!\nDer Schlüssel liegt darin\, i
 n Aktien zu investieren\, die sowohl in Krisenzeiten\nStabilität bewahren
  als auch derzeit attraktive Kaufchancen aufweisen – eine\nsogenannte 
 „Win-Win-Situation“ – ergänzt durch kleinere Investitionen in\nUnte
 rnehmen mit hohem Wachstumspotenzial.\nIm Verlauf des Abends zeigt uns Pat
 rick Oster Schritt für Schritt\, wie wir solche\nWerte finden und uns ein
  Portfolio aufbauen\, das nicht nur krisenresistent ist\,\nsondern auch in
  einem regulären Marktumfeld erfolgreich besteht.\nAbschließend betracht
 en wir eine hierfür geeignete Risk- und Money-Management-\nStrategie (RMM
 )\, die im Wesentlichen die optimale Diversifizierung des Portfolios\numfa
 sst\, um nicht zuletzt unsystematische Risiken zu reduzieren und von\nMark
 tineffizienzen zu profitieren. Wir orientieren uns dabei u. a. an den Prin
 zipien\ndes „Effizienten Portfolios nach Markowitz“\, insbesondere bei
  Investitionen in\nchancenreiche Small- und MicroCaps.
CATEGORIES:Berlin
LOCATION:H10 Hotel Berlin KuDamm
X-APPLE-STRUCTURED-LOCATION;VALUE=URI;X-ADDRESS=Joachimsthaler Str. 31-32\,
  Berlin\, 10789\, Deutschland;X-APPLE-RADIUS=100;X-TITLE=H10 Hotel Berlin 
 KuDamm:geo:0,0
END:VEVENT
BEGIN:VTIMEZONE
TZID:Europe/Berlin
X-LIC-LOCATION:Europe/Berlin
BEGIN:STANDARD
DTSTART:20241027T020000
TZOFFSETFROM:+0200
TZOFFSETTO:+0100
TZNAME:CET
END:STANDARD
END:VTIMEZONE
END:VCALENDAR