BEGIN:VCALENDAR
VERSION:2.0
PRODID:-//wp-events-plugin.com//7.2.3.1//EN
TZID:Europe/Berlin
X-WR-TIMEZONE:Europe/Berlin
BEGIN:VEVENT
UID:898@vtad.de
DTSTART;TZID=Europe/Berlin:20250306T190000
DTEND;TZID=Europe/Berlin:20250306T210000
DTSTAMP:20241214T145021Z
URL:https://www.vtad.de/rgt/folgt-83/
SUMMARY:Relative Stärke incl. Momentum &amp\; Co. - ein Evergreen und wie 
 man ihn praktisch nutzt
DESCRIPTION:\n\nMit der Relativen Stärke kann man je nach persönlicher Vo
 rliebe numerisch oder grafisch arbeiten. Grafisch nennt sich das dann Rati
 o-Chart und das ist auch der Schwerpunkt des heutigen Vortragsabends - als
 o vor allem etwas für den visuell orientierten Anleger bzw. Trader.\n\nDo
 ch zuvor grenzt unser Referent Markus Clemens die verschiedenen numerische
 n Vorgehensweisen (u.a. auch Relative Stärke nach Levy) von einander ab u
 nd erläutert kurz deren Vor- und Nachteile.\n\nEinsetzbar als Marktbreite
 -\, Sentiment- und Konjunkturindikator\, für den Aufbau marktneutraler Tr
 ading-Strategien ( Long-Short-Equity / Pair-Trading )\, als Filter für In
 vestmententscheidungen in starke Regionen\, Sektoren oder Einzelwerte und 
 für die Generierung potentieller Outperformance zu einer Portfolio-Benchm
 ark im Assetmanagement ist die Relative Stärke eine der vielseitigsten un
 d effizientesten Methoden der Technischen Analyse. Egal ob für den Privat
 anleger oder den Fondsmanager.\n\n
CATEGORIES:Berlin
LOCATION:H10 Hotel Berlin KuDamm
X-APPLE-STRUCTURED-LOCATION;VALUE=URI;X-ADDRESS=Joachimsthaler Str. 31-32\,
  Berlin\, 10789\, Deutschland;X-APPLE-RADIUS=100;X-TITLE=H10 Hotel Berlin 
 KuDamm:geo:0,0
END:VEVENT
BEGIN:VTIMEZONE
TZID:Europe/Berlin
X-LIC-LOCATION:Europe/Berlin
BEGIN:STANDARD
DTSTART:20241027T020000
TZOFFSETFROM:+0200
TZOFFSETTO:+0100
TZNAME:CET
END:STANDARD
END:VTIMEZONE
END:VCALENDAR