BEGIN:VCALENDAR
VERSION:2.0
PRODID:-//wp-events-plugin.com//7.2.3.1//EN
TZID:Europe/Berlin
X-WR-TIMEZONE:Europe/Berlin
BEGIN:VEVENT
UID:900@vtad.de
DTSTART;TZID=Europe/Berlin:20250507T190000
DTEND;TZID=Europe/Berlin:20250507T210000
DTSTAMP:20250128T190712Z
URL:https://www.vtad.de/rgt/folgt-85/
SUMMARY:Die "married Put" und "high watermark Put" Strategien: Hohe Rendite
 n ohne Risiko - ein Traum wird Realität
DESCRIPTION:Anhand von realen Trades liefere ich den Beweis wie man 30-40% 
 Renditen mit der Kombination von Aktien und Optionen erreicht. Dabei ist d
 as Risiko entweder gar nicht vorhanden oder nur minimal und vollständig u
 nter Kontrolle.\n\nOptionen gelten oft als komplexes und risikoreiches Fin
 anzinstrument\, doch bei richtiger Anwendung können sie ein äußerst eff
 ektives Werkzeug zur Risikokontrolle und Absicherung im Portfolio sein. In
  diesem Vortrag zeige ich meine Strategien die einen besonderen Fokus auf 
 Sicherheit und der Beherrschung von Risiken haben.\n\nEgal\, ob Einsteiger
  oder bereits erfahrener Anleger\, dieser Vortrag wird helfen\, die Grundl
 agen und die Praxis von Put Optionen besser zu verstehen. Gerade vor dem H
 intergrund der gekippten Verlustverrechnungsbeschränkung ergeben sich jet
 zt auch für private Investoren und Familien Stiftungen extrem lukrative M
 öglichkeiten.\n\nNach einer kurzen Erklärung der Put Option beginne ich 
 mit der married Put Strategie die komplett ohne Risiko gehandelt werden ka
 nn. Ja\, richtig gelesen - kein Verlustrisiko.\n\nAls zweite Strategie wir
 d dann die high watermark Put Strategie vorgestellt. Anhand von realen Tra
 des aus meinem Depot zeige ich detailliert Schritt für Schritt wie ich be
 i minimalem Risiko mit Oracle Aktien in Kombination mit Optionen über 40%
  p.a. erreicht habe.\n\nZiel dieses Vortrags ist es\, nicht nur das Handwe
 rkszeug zu vermitteln\, sondern auch das Vertrauen zu geben\, Optionen als
  sinnvolles und sicheres Element einzusetzen.\n\nIch zeige\, wie man mit d
 urchdachten Entscheidungen und effektiver Risikokontrolle die Möglichkeit
 en von Optionen ausschöpfen kann\, ohne dabei unnötige Risiken einzugehe
 n.
CATEGORIES:Berlin
LOCATION:H10 Hotel Berlin KuDamm
X-APPLE-STRUCTURED-LOCATION;VALUE=URI;X-ADDRESS=Joachimsthaler Str. 31-32\,
  Berlin\, 10789\, Deutschland;X-APPLE-RADIUS=100;X-TITLE=H10 Hotel Berlin 
 KuDamm:geo:0,0
END:VEVENT
BEGIN:VTIMEZONE
TZID:Europe/Berlin
X-LIC-LOCATION:Europe/Berlin
BEGIN:DAYLIGHT
DTSTART:20250330T030000
TZOFFSETFROM:+0100
TZOFFSETTO:+0200
TZNAME:CEST
END:DAYLIGHT
END:VTIMEZONE
END:VCALENDAR