BEGIN:VCALENDAR
VERSION:2.0
PRODID:-//wp-events-plugin.com//7.2.3.1//EN
TZID:Europe/Berlin
X-WR-TIMEZONE:Europe/Berlin
BEGIN:VEVENT
UID:901@vtad.de
DTSTART;TZID=Europe/Berlin:20250603T190000
DTEND;TZID=Europe/Berlin:20250603T210000
DTSTAMP:20250409T131530Z
URL:https://www.vtad.de/rgt/folgt-86/
SUMMARY:Edelmetalle mit Rendite-Kick
DESCRIPTION:„Buy and Hold“ war gestern – heute geht’s ums aktive Ve
 rmehren Deines Edelmetallbestands\, und das ganz ohne zusätzliches Kapita
 l!\n\nIn diesem exklusiven Vortrag zeigt Dir Sabrina Ritz\, Expertin für 
 physische Edelmetall-Investments\, wie Du mit einer einfachen\, aber weitg
 ehend unbekannten Strategie deutlich mehr aus Deinem Gold- und Silberbesta
 nd herausholst.\n\nDer Schlüssel? Die Gold-Silber-Ratio!\nSie verrät\, w
 ann es sinnvoll ist\, zwischen Gold und Silber zu switchen\, um durch inte
 lligente Tauschvorgänge mehr Edelmetalle zu besitzen – ganz ohne neue K
 äufe.\n\nErgebnis: Statt „nur“ von Preissteigerungen zu profitieren\,
  steigst Du auch mengenmäßig auf – und der Effekt auf Deine Gesamtperf
 ormance ist enorm.\n\nSabrina Ritz lüftet das Geheimnis einer Edelmetall-
 Strategie\, die kaum jemand kennt – aber jeder Anleger kennen sollte.
CATEGORIES:Berlin
LOCATION:H10 Hotel Berlin KuDamm
X-APPLE-STRUCTURED-LOCATION;VALUE=URI;X-ADDRESS=Joachimsthaler Str. 31-32\,
  Berlin\, 10789\, Deutschland;X-APPLE-RADIUS=100;X-TITLE=H10 Hotel Berlin 
 KuDamm:geo:0,0
END:VEVENT
BEGIN:VTIMEZONE
TZID:Europe/Berlin
X-LIC-LOCATION:Europe/Berlin
BEGIN:DAYLIGHT
DTSTART:20250330T030000
TZOFFSETFROM:+0100
TZOFFSETTO:+0200
TZNAME:CEST
END:DAYLIGHT
END:VTIMEZONE
END:VCALENDAR