BEGIN:VCALENDAR
VERSION:2.0
PRODID:-//wp-events-plugin.com//7.2.3.1//EN
TZID:Europe/Berlin
X-WR-TIMEZONE:Europe/Berlin
BEGIN:VEVENT
UID:903@vtad.de
DTSTART;TZID=Europe/Berlin:20250903T190000
DTEND;TZID=Europe/Berlin:20250903T210000
DTSTAMP:20250811T170805Z
URL:https://www.vtad.de/rgt/folgt-88/
SUMMARY:Methoden zur Erarbeitung eines statistischen Vorteils in Handelssys
 temen
DESCRIPTION:\n\nIm diskretionären Handel schleichen sich häufig Denkfehle
 r und Fehlannahmen ein\, die zu Verlusten führen können.\nIn diesem Vort
 rag erfahren Sie\, welche Schritte notwendig sind\, um systematischen Hand
 el für sich zu nutzen und echte statistische Vorteile zu gewinnen.\nWir z
 eigen Ihnen\, wie Sie mithilfe datenbasierter Ansätze Ihre Handelsstrateg
 ien optimieren und langfristig erfolgreicher handeln können.\n\nÜber Jur
 i Ostaschov:\n\nJuri Ostaschov ist bereits seit seinem 18. Lebensjahr an d
 er Börse aktiv und verfügt über mehr als 8 Jahre Erfahrung im Bereich D
 ata Science.\nEr ist außerdem der Entwickler von Deutschlands führender 
 Immobilien-KI\, die in der Lage ist\, zukünftige Szenarien in der Immobil
 ienwelt zu erkennen\, zu analysieren und vorherzusagen.\n\nWeitere Informa
 tionen über statistische Auswertungen im Börsenhandel finden Sie auf sei
 ner Webseite:\nwww.statistic-trading.de\n\n
CATEGORIES:Berlin
LOCATION:H10 Hotel Berlin KuDamm
X-APPLE-STRUCTURED-LOCATION;VALUE=URI;X-ADDRESS=Joachimsthaler Str. 31-32\,
  Berlin\, 10789\, Deutschland;X-APPLE-RADIUS=100;X-TITLE=H10 Hotel Berlin 
 KuDamm:geo:0,0
END:VEVENT
BEGIN:VTIMEZONE
TZID:Europe/Berlin
X-LIC-LOCATION:Europe/Berlin
BEGIN:DAYLIGHT
DTSTART:20250330T030000
TZOFFSETFROM:+0100
TZOFFSETTO:+0200
TZNAME:CEST
END:DAYLIGHT
END:VTIMEZONE
END:VCALENDAR