BEGIN:VCALENDAR
VERSION:2.0
PRODID:-//wp-events-plugin.com//7.2.3.1//EN
TZID:Europe/Berlin
X-WR-TIMEZONE:Europe/Berlin
BEGIN:VEVENT
UID:904@vtad.de
DTSTART;TZID=Europe/Berlin:20251009T190000
DTEND;TZID=Europe/Berlin:20251009T210000
DTSTAMP:20250904T085048Z
URL:https://www.vtad.de/rgt/folgt-89/
SUMMARY:KI-Revolution im Trading: Wie Künstliche Intelligenz die Technisch
 e Analyse und Portfolio-Strategie transformiert
DESCRIPTION:Künstliche Intelligenz revolutioniert Trading und Geldanlage. 
 Dieser Vortrag stellt moderne KI-Tools wie Grok\, GPT und Gemini vor und z
 eigt\, wie präzise Prompts aussagekräftige Ergebnisse liefern. Erfahren 
 Sie\, wie KI Portfolios optimiert\, technische Analysen auf H4/D1/W1-Zeite
 benen verbessert und kurzfristiges Trading unterstützt. Zudem blickt der 
 Referent auf derzeit noch vorhandene Grenzen der KI-Anwendung und gibt ein
 en Ausblick auf KI-Entwicklungen für 2026 und 2027.\n\n&nbsp\;\n\nStruktu
 r:\n\n1.) Einführung in KI-Tools (GPT\, Grok\, Gemini): Kurzer Überblick
 \, Fokus auf Unterschiede und Relevanz für Trading.\n\n2.) Prompt Enginee
 ring für präzise Ergebnisse: Bedeutung von Prompts mit Trading-spezifisc
 hen Beispielen.\n\n3.) KI für Portfolio-Management: Anwendung bei Asset-A
 llokation\, Risikobewertung\, Korrelationsanalysen.\n\n4.) KI in der Techn
 ischen Analyse (H4\, D1\, W1): Mustererkennung\, Analyse von Indikatoren\,
  historische Daten.\n\n5.) KI für kurzfristiges Trading: Automatisierung 
 von Signalen\, Herausforderungen bei Intraday-Daten.\n\n6.) KI zur Code-Er
 stellung für Handelssysteme\n\n6.) Sentiment-Analyse und Marktstimmung: N
 utzung von KI für die Analyse von Nachrichten oder Social Media-Posts.\n\
 n7.) Grenzen von KI-Tools im Trading: Datenqualität\, Black Swan Events\,
  ethische/regulatorische Aspekte.\n\n8.) Ausblick 2026 und 2027: Trends wi
 e Echtzeit-Datenanalyse\, Integration in Plattformen\, regulatorische Entw
 icklungen.\n\n9.) Q&amp\;A: Praktische Beispiele und Fragen.
CATEGORIES:Berlin
LOCATION:H10 Hotel Berlin KuDamm
X-APPLE-STRUCTURED-LOCATION;VALUE=URI;X-ADDRESS=Joachimsthaler Str. 31-32\,
  Berlin\, 10789\, Deutschland;X-APPLE-RADIUS=100;X-TITLE=H10 Hotel Berlin 
 KuDamm:geo:0,0
END:VEVENT
BEGIN:VTIMEZONE
TZID:Europe/Berlin
X-LIC-LOCATION:Europe/Berlin
BEGIN:DAYLIGHT
DTSTART:20250330T030000
TZOFFSETFROM:+0100
TZOFFSETTO:+0200
TZNAME:CEST
END:DAYLIGHT
END:VTIMEZONE
END:VCALENDAR