BEGIN:VCALENDAR
VERSION:2.0
PRODID:-//wp-events-plugin.com//7.2.3.1//EN
TZID:Europe/Berlin
X-WR-TIMEZONE:Europe/Berlin
BEGIN:VEVENT
UID:958@vtad.de
DTSTART;TZID=Europe/Berlin:20250408T183000
DTEND;TZID=Europe/Berlin:20250408T210000
DTSTAMP:20250320T052624Z
URL:https://www.vtad.de/rgt/folgt-96/
SUMMARY:Handelspsychologie verstehen und verbessern
DESCRIPTION:Vortragsbeschreibung:\n\nPsychologische Faktoren beeinflussen d
 ie Entscheidungsfindung und Umsetzung von Handelsstrategien maßgeblich. D
 er Vortrag fokussiert sich auf die Psychologie bei Handelsentscheidungen f
 ür Technische Analysten und technisch orientierte Trader. Teilnehmende er
 halten einen Überblick über mentale Mechanismen im Handelsalltag und ler
 nen\, psychologische Einflüsse frühzeitig zu erkennen\, bevor sie sich a
 uf Handelsentscheidungen auswirken. Zudem werden praxisnahe Techniken vorg
 estellt\, um häufige psychologische Herausforderungen in konkreten Handel
 ssituationen gezielt zu bewältigen.\n\n&nbsp\;\n\nReferentenbeschreibung/
 Vita:\n\nJulia Thiele\, M.Sc. – Trading- und Investmentpsychologin\, zer
 tifizierte psychologische Coach/Mentaltrainerin\n\nJulia Thiele ist Psycho
 login mit Spezialisierung auf Trading- und Investmentpsychologie und arbei
 tet mit privaten sowie institutionellen Tradern und Investoren. Als selbst
 ständige Trading- und Investmentpsychologin unterstützt sie Finanzmarkta
 kteure in Einzel- und Gruppencoachings bei der Analyse psychologischer Han
 delsfehler\, Reflexion von Denk- und Entscheidungsprozessen sowie der Entw
 icklung mentaler Strategien zur Optimierung des Tradingverhaltens.\n\nIhr 
 Fokus liegt auf wissenschaftlich fundierten Methoden zur Emotionsregulatio
 n\, rationalen Entscheidungsfindung und kognitiven Resilienz\, um psycholo
 gische Einflussfaktoren frühzeitig zu erkennen und einen stabil profitabl
 en Handel zu fördern.\n\nNeben ihrer Coaching-Tätigkeit hat sie ein Trai
 ningsprogramm zur psychologischen Kompetenzentwicklung für Trader und Inv
 estoren konzipiert\, ist als Referentin auf Fachveranstaltungen tätig und
  publiziert regelmäßig in Fachzeitschriften zur Finanzmarktpsychologie. 
 Zuvor war sie als Beraterin in der Personal- und Produktentwicklung für d
 en Finanzsektor\, in der Immobilienfinanzierung sowie in eigener psycholog
 ischer Praxis mit Schwerpunkt Emotions- und Selbstmanagement tätig.
CATEGORIES:Hamburg
LOCATION:CURIO-Haus
X-APPLE-STRUCTURED-LOCATION;VALUE=URI;X-ADDRESS=Rothenbaumchaussee 11\, Ham
 burg\, Hamburg\, 20148 \, Rotherbaum\, Deutschland;X-APPLE-RADIUS=100;X-TI
 TLE=CURIO-Haus:geo:0,0
END:VEVENT
BEGIN:VTIMEZONE
TZID:Europe/Berlin
X-LIC-LOCATION:Europe/Berlin
BEGIN:DAYLIGHT
DTSTART:20250330T030000
TZOFFSETFROM:+0100
TZOFFSETTO:+0200
TZNAME:CEST
END:DAYLIGHT
END:VTIMEZONE
END:VCALENDAR