BEGIN:VCALENDAR
VERSION:2.0
PRODID:-//wp-events-plugin.com//7.2.3.1//EN
TZID:Europe/Berlin
X-WR-TIMEZONE:Europe/Berlin
BEGIN:VEVENT
UID:627@vtad.de
DTSTART;TZID=Europe/Berlin:20230511T183000
DTEND;TZID=Europe/Berlin:20230511T200000
DTSTAMP:20230206T134833Z
URL:https://www.vtad.de/rgt/geld-und-inflation/
SUMMARY:Geld und Inflation
DESCRIPTION:Gute Inflation. Schlechte Inflation. Worin liegt der Unterschie
 d und wie kann ich mich und mein Kapital schützen? Geld ist einer der zen
 tralsten Bestandteile im Kapitalismus und somit in vielen Bereichen unsere
 s Lebens. Aber woher kommt es eigentlich und wie bekommt oder verliert es 
 seinen Wert?\n\nAnlageklassen werden verglichen\, konkrete Lösungsvorschl
 äge präsentiert und vorgestellt wie eine optimierte Aktienauswahl nach Z
 yklen stattfindet. Außerdem gibt es einen Ausblick\, ob die Inflation gek
 ommen ist um zu bleiben oder wieder abklingt. Nicht beantwortete Fragen ge
 rne im Anschluss beim Essen oder beim gemütlichen Zusammensitzen in einer
  Bar.\n\nJonathan Gebers erstes Interesse an Investitionen und Trading ent
 stand während seiner Schulzeit in China. Er handelt seit 2016 Kryptowähr
 ungen\, seit 2019 die Forexmärkte\, 2022 kamen Futures auf Indizes und Ro
 hstoffe hinzu. Während Corona begann er sein Studium in der Wirtschaftsps
 ychologie. Fundamentale- und Technische-Analyse werden ergänzend verwende
 t\, um Investitionen und Trade-Ideen zu generieren. Spaß an interessanten
  Gesprächen\, Diskussionen\, Menschen und Neuem ist definitiv gegeben. Ne
 ben dem eigenen Swing- und Daytrading ist Jonathan Gebers Teil von Trade T
 he Traders\, einer Gruppe erfolgreicher Berufshändler und Coaches.
CATEGORIES:Stuttgart
LOCATION:Haus der Wirtschaft
X-APPLE-STRUCTURED-LOCATION;VALUE=URI;X-ADDRESS= Willi-Bleicher-Straße 19\
 , Stuttgart\, 71174\, Deutschland;X-APPLE-RADIUS=100;X-TITLE=Haus der Wirt
 schaft:geo:0,0
END:VEVENT
BEGIN:VTIMEZONE
TZID:Europe/Berlin
X-LIC-LOCATION:Europe/Berlin
BEGIN:DAYLIGHT
DTSTART:20230326T030000
TZOFFSETFROM:+0100
TZOFFSETTO:+0200
TZNAME:CEST
END:DAYLIGHT
END:VTIMEZONE
END:VCALENDAR