BEGIN:VCALENDAR
VERSION:2.0
PRODID:-//wp-events-plugin.com//7.2.3.1//EN
TZID:Europe/Berlin
X-WR-TIMEZONE:Europe/Berlin
BEGIN:VEVENT
UID:1039@vtad.de
DTSTART;TZID=Europe/Berlin:20250814T180000
DTEND;TZID=Europe/Berlin:20250814T210000
DTSTAMP:20250615T130502Z
URL:https://www.vtad.de/rgt/gemuetliches-sommertreffen-2/
SUMMARY:Gemütliches Sommertreffen
DESCRIPTION:Liebe Mitglieder und Freunde der VTAD Nürnberg\,\n\nwährend d
 er Sommerferien im August findet in Nürnberg traditionell keine Vortragsv
 eranstaltung statt. Um den Austausch zwischen den Mitgliedern auch währen
 d der Urlaubszeit nicht abreißen zu lassen\, wollen wir uns in gemütlich
 er Atmosphäre zum Sommerstammtisch treffen.  Eine separate Infomail geht
  rechtzeitig noch raus.\n\nWann: Donnerstag\, 14. August 2025\,  ab 18:00
  Uhr\n\nWo: folgt\n\nHerzliche Grüße\,\n\nIhr Team der VTAD-Regionalgru
 ppe Nürnberg
CATEGORIES:Nürnberg
END:VEVENT
BEGIN:VTIMEZONE
TZID:Europe/Berlin
X-LIC-LOCATION:Europe/Berlin
BEGIN:DAYLIGHT
DTSTART:20250330T030000
TZOFFSETFROM:+0100
TZOFFSETTO:+0200
TZNAME:CEST
END:DAYLIGHT
END:VTIMEZONE
END:VCALENDAR